BEGIN:VCALENDAR
VERSION:2.0
PRODID:-//ChamberMaster//Event Calendar 2.0//EN
METHOD:PUBLISH
X-PUBLISHED-TTL:P3D
REFRESH-INTERVAL:P3D
CALSCALE:GREGORIAN
BEGIN:VEVENT
DTSTART:20230527T130000Z
DTEND:20230527T200000Z
X-MICROSOFT-CDO-ALLDAYEVENT:FALSE
SUMMARY:Rummage Sale
DESCRIPTION:All donations will go to benefit local food pantry.\n\nFREE Hotdogs and popcorn provided.
X-ALT-DESC;FMTTYPE=text/html:All donations will go to benefit local food pantry.<br />\n<strong><em>FREE</em></strong> Hotdogs and popcorn provided.
LOCATION:Elk Rapids Bible Church 400 E. 3rd Street Elk Rapids
UID:e.2409.37818
SEQUENCE:3
DTSTAMP:20260420T034933Z
URL:https://business.elkrapidschamber.org/events/details/rummage-sale-05-27-2023-37818
END:VEVENT

END:VCALENDAR
