BEGIN:VCALENDAR
VERSION:2.0
PRODID:-//ChamberMaster//Event Calendar 2.0//EN
METHOD:PUBLISH
X-PUBLISHED-TTL:P3D
REFRESH-INTERVAL:P3D
CALSCALE:GREGORIAN
BEGIN:VEVENT
DTSTART:20220816T220000Z
DTEND:20220816T233000Z
X-MICROSOFT-CDO-ALLDAYEVENT:FALSE
SUMMARY:ROTARY Great Lakes Water Levels & Shoreline Issues @ Rotary Meeting
DESCRIPTION:Great Lakes Water Levels\, Shoreline Issues presented\n\n \n\nThe public is invited to hear Keith Termaat speak on Great Lakes Water Levels and Related Shoreline Issues on August 16 at the Historic Elk Rapids Town Hall (HERTH).  A native of the Netherlands\, Termaat grew up with an abiding interest in the management of coastal waters and lands. He is founder and president of TNN\, Township Neighbors Network. Please join us for an informative presentation. Donations accepted. Doors open at 6:00 p.m. at the Hall\, located at 401 River St.\, Elk Rapids. The event is hosted by the Rotary Club of Elk Rapids.
X-ALT-DESC;FMTTYPE=text/html:<span style="background:white\;"><span style="color:#222222\;"><span style="font-family:arial\,sans-serif\;"><span style="font-size:16.0pt\;">Great Lakes Water Levels\, Shoreline Issues presented</span></span></span></span><br />\n&nbsp\;<br />\n<span style="background:white\;"><span style="color:#222222\;"><span style="font-family:arial\,sans-serif\;">The public is invited to hear Keith Termaat&nbsp\;speak on <em>Great Lakes Water Levels and Related Shoreline Issues</em> on August 16 at the Historic Elk Rapids Town Hall (HERTH).&nbsp\; A native of the Netherlands\, Termaat grew up&nbsp\;with an abiding interest in the management of coastal waters and lands. He&nbsp\;is&nbsp\;founder and president of TNN\, Township Neighbors Network. Please join us for an informative presentation. Donations accepted. Doors open at 6:00 p.m. at the Hall\, located at 401 River St.\, Elk Rapids. The event is hosted by the Rotary Club of Elk Rapids. </span></span></span>
LOCATION:Herth Hall 401 River Street Elk Rapids\, MI
UID:e.2409.30680
SEQUENCE:3
DTSTAMP:20260420T172950Z
URL:https://business.elkrapidschamber.org/events/details/rotary-great-lakes-water-levels-shoreline-issues-rotary-meeting-30680
END:VEVENT

END:VCALENDAR
