BEGIN:VCALENDAR
VERSION:2.0
PRODID:-//ChamberMaster//Event Calendar 2.0//EN
METHOD:PUBLISH
X-PUBLISHED-TTL:P3D
REFRESH-INTERVAL:P3D
CALSCALE:GREGORIAN
BEGIN:VEVENT
DTSTART:20230513T220000Z
DTEND:20230514T030000Z
X-MICROSOFT-CDO-ALLDAYEVENT:FALSE
SUMMARY:Rotary Duct Tape Ball
DESCRIPTION:Dining and Dancing under the Tent\n\nWear something made with duct tape\n\nPrize for best costume
X-ALT-DESC;FMTTYPE=text/html:Dining and Dancing under the Tent<br />\nWear something made with duct tape<br />\nPrize for best costume
LOCATION:A-Ga-Ming Golf Resort
UID:e.2409.33108
SEQUENCE:3
DTSTAMP:20260420T034803Z
URL:https://business.elkrapidschamber.org/events/details/rotary-duct-tape-ball-33108
END:VEVENT

END:VCALENDAR
