BEGIN:VCALENDAR
VERSION:2.0
PRODID:-//ChamberMaster//Event Calendar 2.0//EN
METHOD:PUBLISH
X-PUBLISHED-TTL:P3D
REFRESH-INTERVAL:P3D
CALSCALE:GREGORIAN
BEGIN:VEVENT
DTSTART:20190622T140000Z
DTEND:20190622T200000Z
X-MICROSOFT-CDO-ALLDAYEVENT:FALSE
SUMMARY:Rock-A-Thon sponsored by Rotary
DESCRIPTION:The Elk Rapids Rotary Club is sponsoring a "Rock-A-Thon Fundraiser" on Saturday\, June 22 from 10 a.m. to 4 p.m. at the parking lot of the Village Market on Ames Street in Elk Rapids and also in front of Corner Drugs.  All money raised will go to the Good Works Fund of the Elk Rapids Rotary Club. \n\n \n\nThe Good Works Fund has helped develop the Edward C. Grace Memorial Harbor\,\n\nRotary Park\, Munson Cardiac and Cancer Centers\, NMC Scholarships\, Good Samaritan His House\, the Antrim Baby Pantry\, Acme Christian Thrift Store\, the Elk Rapids Schools \n\nRobotics programs\, and countless other deserving community\, youth\, or veterans programs.\n\n \n\nThere will be donation jars at the Village Market site on June 22nd\, and if you know any Rotarians\, they will gladly receive your donations.  Please consider giving to this worthy cause.\n\n \n\nWe will be in our rocking chairs "ROCKING RAIN OR SHINE!"  Prizes will be awarded for the best decorated chairs!\n\n \n\nFor details contact Connie Nault at cjnault@waniganbuilders.com.
X-ALT-DESC;FMTTYPE=text/html:<span style="font-size: 14pt\;"><span style="font-family: calibri\;">The Elk Rapids Rotary Club is sponsoring a &ldquo\;Rock-A-Thon Fundraiser&rdquo\; on Saturday\, June 22 from 10 a.m. to 4 p.m. at the parking lot of the Village Market on Ames Street in Elk Rapids and also in front of Corner Drugs.&nbsp\; All money raised will go to the Good Works Fund of the Elk Rapids Rotary&nbsp\;Club.&nbsp\;</span></span><br />\n&nbsp\;<br />\n<span style="font-size: 14pt\;"><span style="font-family: calibri\;">The Good Works Fund has helped develop the Edward C. Grace Memorial Harbor\,</span></span><br />\n<span style="font-size: 14pt\;"><span style="font-family: calibri\;">Rotary Park\, Munson Cardiac and Cancer Centers\, NMC Scholarships\,&nbsp\;Good Samaritan His House\, the Antrim Baby Pantry\, Acme Christian Thrift Store\, the Elk Rapids Schools&#8203\;</span></span><br />\n<span style="font-size: 14pt\;"><span style="font-family: calibri\;">Robotics&nbsp\;programs\, and countless other deserving community\, youth\, or veterans programs.</span></span><br />\n&nbsp\;<br />\n<span style="font-size: 14pt\;"><span style="font-family: calibri\;">There will be donation jars at the Village Market site on June 22nd\, and if you know any Rotarians\, they will gladly receive your donations.&nbsp\; Please consider giving to this worthy cause.</span></span><br />\n&nbsp\;<br />\n<span style="font-size: 14pt\;"><span style="font-family: calibri\;">We will be in our rocking chairs &ldquo\;<strong>ROCKING RAIN OR SHINE!&rdquo\;&nbsp\; </strong>Prizes will be awarded for the best decorated chairs!</span><a name="_GoBack"></a></span><br />\n&nbsp\;<br />\n<span style="font-size: 14pt\;"><span style="font-family: calibri\;">For details contact Connie Nault at </span></span><a href="mailto:cjnault@waniganbuilders.com"><span style="font-size: 14pt\;"><span style="font-family: calibri\;"><span style="color: rgb(5\, 99\, 193)\;">cjnault@waniganbuilders.com</span></span></span></a><span style="font-size: 14pt\;"><span style="font-family: calibri\;">. </span></span><br />\n<span style="font-size: 14pt\;"><span style="font-family: calibri\;">&#8203\;</span></span><br />\n&nbsp\;<br />\n&nbsp\;
LOCATION:Village Market Parking Lot\, Ames St. Elk Rapids Corner Drugs\, River Street downtown Elk Rapids
UID:e.2409.18609
SEQUENCE:3
DTSTAMP:20260424T234745Z
URL:https://business.elkrapidschamber.org/events/details/rock-a-thon-sponsored-by-rotary-18609
END:VEVENT

END:VCALENDAR
