BEGIN:VCALENDAR
VERSION:2.0
PRODID:-//ChamberMaster//Event Calendar 2.0//EN
METHOD:PUBLISH
X-PUBLISHED-TTL:P3D
REFRESH-INTERVAL:P3D
CALSCALE:GREGORIAN
BEGIN:VEVENT
DTSTART:20220915T203000Z
DTEND:20220915T230000Z
X-MICROSOFT-CDO-ALLDAYEVENT:FALSE
SUMMARY:Ribbon Cutting & Grand Opening
DESCRIPTION:THURSDAY\, SEPTEMBER 15\, 2022  \n\n4:30   7 PM\n\n \n\nRibbon Cutting for Grand Opening of Great Lakes Sotheby's International Realty\n\n \n\nJoin us as we celebrate the Grand Opening of Great Lakes Sotheby's International Realty with a Ribbon Cutting at 4:30 pm. followed by a reception. Congratulations on your beautiful new office located at 215 River Street\, #A-1 in downtown Elk Rapids.
X-ALT-DESC;FMTTYPE=text/html:<p style="margin: 0px\; padding: 0px\; color: rgb(123\, 110\, 101)\; font-family: Arial\, Verdana\, Helvetica\, sans-serif\; font-size: 12px\; background-color: rgb(255\, 255\, 255)\;"><span style="font-size: 15px\; color: rgb(28\, 30\, 33)\; font-weight: bold\;">THURSDAY\, SEPTEMBER 15\, 2022&nbsp\;&nbsp\;</span></p>\n\n<p style="margin: 0px\; padding: 0px\; color: rgb(123\, 110\, 101)\; font-family: Arial\, Verdana\, Helvetica\, sans-serif\; font-size: 12px\; background-color: rgb(255\, 255\, 255)\;"><span style="font-size: 15px\; color: rgb(28\, 30\, 33)\; font-weight: bold\;">4:30 &ndash\; 7 PM</span></p>\n\n<p style="margin: 0px\; padding: 0px\; color: rgb(123\, 110\, 101)\; font-family: Arial\, Verdana\, Helvetica\, sans-serif\; font-size: 12px\; background-color: rgb(255\, 255\, 255)\;">&nbsp\;</p>\n\n<h2 style="margin: 0px\; font-family: Arial\, Verdana\, Helvetica\, sans-serif\; color: rgb(96\, 109\, 120)\; font-size: 22px\; background-color: rgb(255\, 255\, 255)\;"><span style="color: rgb(28\, 30\, 33)\;">Ribbon Cutting for Grand Opening of Great Lakes Sotheby&#39\;s International Realty</span></h2>\n\n<p style="margin: 0px\; padding: 0px\; color: rgb(123\, 110\, 101)\; font-family: Arial\, Verdana\, Helvetica\, sans-serif\; font-size: 12px\; background-color: rgb(255\, 255\, 255)\;">&nbsp\;</p>\n\n<p style="margin: 0px\; padding: 0px\; color: rgb(123\, 110\, 101)\; font-family: Arial\, Verdana\, Helvetica\, sans-serif\; font-size: 12px\; background-color: rgb(255\, 255\, 255)\;"><span style="font-size: 16px\; color: rgb(5\, 5\, 5)\; font-weight: bold\;">Join us as we celebrate the Grand Opening of Great Lakes Sotheby&#39\;s International Realty with a Ribbon Cutting at 4:30 pm. followed by a reception. Congratulations on your beautiful new office located at 215 River Street\, #A-1 in downtown Elk Rapids.</span></p>\n
LOCATION:
UID:e.2409.30810
SEQUENCE:3
DTSTAMP:20260420T154308Z
URL:https://business.elkrapidschamber.org/events/details/ribbon-cutting-grand-opening-30810
END:VEVENT

END:VCALENDAR
