BEGIN:VCALENDAR
VERSION:2.0
PRODID:-//ChamberMaster//Event Calendar 2.0//EN
METHOD:PUBLISH
X-PUBLISHED-TTL:P3D
REFRESH-INTERVAL:P3D
CALSCALE:GREGORIAN
BEGIN:VEVENT
DTSTART:20231110T150000Z
DTEND:20231110T151500Z
X-MICROSOFT-CDO-ALLDAYEVENT:FALSE
SUMMARY:Ribbon Cutting at Third Coast Wealth Planning
DESCRIPTION:
X-ALT-DESC;FMTTYPE=text/html:
LOCATION:100 River Street\, Suite #1 Elk Rapids
UID:e.2409.39721
SEQUENCE:3
DTSTAMP:20260419T175453Z
URL:https://business.elkrapidschamber.org/events/details/ribbon-cutting-at-third-coast-wealth-planning-39721
END:VEVENT

END:VCALENDAR
