BEGIN:VCALENDAR
VERSION:2.0
PRODID:-//ChamberMaster//Event Calendar 2.0//EN
METHOD:PUBLISH
X-PUBLISHED-TTL:P3D
REFRESH-INTERVAL:P3D
CALSCALE:GREGORIAN
BEGIN:VEVENT
DTSTART:20230206T170000Z
DTEND:20230206T173000Z
X-MICROSOFT-CDO-ALLDAYEVENT:FALSE
SUMMARY:Ribbon Cutting at Bayside Real Estate on East Bay
DESCRIPTION:Please join us for a Ribbon Cutting\n\n \n\nMonday\, February 6\, 2023\, at Noon\n\n \n\nBayside Real Estate on East Bay\n\n5748 U.S. 31 * Williamsburg\, MI 49690\n\n(231) 778-0990\n\n \n\nCelebrating the opening of the second office for Bayside Real Estate. \n\n \n\n Congratulations to James and Tera Garrow and staff!
X-ALT-DESC;FMTTYPE=text/html:<p style="box-sizing: border-box\; margin: 0px\; padding: 0px\; color: rgb(123\, 110\, 101)\; font-family: Arial\, Verdana\, Helvetica\, sans-serif\; font-size: 12px\; background-color: rgb(255\, 228\, 175)\;"><span style="box-sizing: border-box\; font-size: 14px\; color: rgb(0\, 0\, 0)\; font-weight: bold\;">Please join us for a Ribbon Cutting</span></p>\n\n<p style="box-sizing: border-box\; margin: 0px\; padding: 0px\; color: rgb(123\, 110\, 101)\; font-family: Arial\, Verdana\, Helvetica\, sans-serif\; font-size: 12px\; background-color: rgb(255\, 228\, 175)\;">&nbsp\;</p>\n\n<p style="box-sizing: border-box\; margin: 0px\; padding: 0px\; color: rgb(123\, 110\, 101)\; font-family: Arial\, Verdana\, Helvetica\, sans-serif\; font-size: 12px\; background-color: rgb(255\, 228\, 175)\;"><span style="box-sizing: border-box\; font-size: 14px\; color: rgb(0\, 0\, 0)\; font-weight: bold\;">Monday\, February 6\, 2023\, at Noon</span></p>\n\n<p style="box-sizing: border-box\; margin: 0px\; padding: 0px\; color: rgb(123\, 110\, 101)\; font-family: Arial\, Verdana\, Helvetica\, sans-serif\; font-size: 12px\; background-color: rgb(255\, 228\, 175)\;">&nbsp\;</p>\n\n<p style="box-sizing: border-box\; margin: 0px\; padding: 0px\; color: rgb(123\, 110\, 101)\; font-family: Arial\, Verdana\, Helvetica\, sans-serif\; font-size: 12px\; background-color: rgb(255\, 228\, 175)\;"><span style="box-sizing: border-box\; font-size: 14px\; color: rgb(0\, 0\, 0)\; font-weight: bold\;">Bayside Real Estate on East Bay</span></p>\n\n<p style="box-sizing: border-box\; margin: 0px\; padding: 0px\; color: rgb(123\, 110\, 101)\; font-family: Arial\, Verdana\, Helvetica\, sans-serif\; font-size: 12px\; background-color: rgb(255\, 228\, 175)\;"><span style="box-sizing: border-box\; font-size: 14px\; color: rgb(0\, 0\, 0)\; font-weight: bold\;">5748 U.S. 31 * Williamsburg\, MI 49690</span></p>\n\n<p style="box-sizing: border-box\; margin: 0px\; padding: 0px\; color: rgb(123\, 110\, 101)\; font-family: Arial\, Verdana\, Helvetica\, sans-serif\; font-size: 12px\; background-color: rgb(255\, 228\, 175)\;"><span style="box-sizing: border-box\; font-size: 14px\; color: rgb(0\, 0\, 0)\; font-weight: bold\;">(231) 778-0990</span></p>\n\n<p style="box-sizing: border-box\; margin: 0px\; padding: 0px\; color: rgb(123\, 110\, 101)\; font-family: Arial\, Verdana\, Helvetica\, sans-serif\; font-size: 12px\; background-color: rgb(255\, 228\, 175)\;">&nbsp\;</p>\n\n<p style="box-sizing: border-box\; margin: 0px\; padding: 0px\; color: rgb(123\, 110\, 101)\; font-family: Arial\, Verdana\, Helvetica\, sans-serif\; font-size: 12px\; background-color: rgb(255\, 228\, 175)\;"><span style="box-sizing: border-box\; font-size: 14px\; color: rgb(0\, 0\, 0)\; font-weight: bold\;">Celebrating the opening of the second office for Bayside Real Estate.&#65279\;</span></p>\n\n<p style="box-sizing: border-box\; margin: 0px\; padding: 0px\; color: rgb(123\, 110\, 101)\; font-family: Arial\, Verdana\, Helvetica\, sans-serif\; font-size: 12px\; background-color: rgb(255\, 228\, 175)\;">&nbsp\;</p>\n\n<p align="center" style="box-sizing: border-box\; margin: 0px\; padding: 0px\; color: rgb(123\, 110\, 101)\; font-family: Arial\, Verdana\, Helvetica\, sans-serif\; font-size: 12px\; background-color: rgb(255\, 228\, 175)\; text-align: center\;"><span style="box-sizing: border-box\; font-size: 14px\; color: rgb(0\, 0\, 0)\; font-weight: bold\;">&#65279\;Congratulations to James and Tera Garrow and staff!</span></p>\n
LOCATION:
UID:e.2409.35518
SEQUENCE:3
DTSTAMP:20260420T070849Z
URL:https://business.elkrapidschamber.org/events/details/ribbon-cutting-at-bayside-real-estate-on-east-bay-35518
END:VEVENT

END:VCALENDAR
