BEGIN:VCALENDAR
VERSION:2.0
PRODID:-//ChamberMaster//Event Calendar 2.0//EN
METHOD:PUBLISH
X-PUBLISHED-TTL:P3D
REFRESH-INTERVAL:P3D
CALSCALE:GREGORIAN
BEGIN:VEVENT
DTSTART:20191213T230000Z
DTEND:20191214T000000Z
X-MICROSOFT-CDO-ALLDAYEVENT:FALSE
SUMMARY:Relax Before the Holidays
DESCRIPTION:Join us on the porch for an hour of guided breathwork\, relaxation exercises\, and meditation. Please call 231-264-9979 to register.
X-ALT-DESC;FMTTYPE=text/html:Join us on the porch for an hour of guided breathwork\, relaxation exercises\, and meditation. Please call 231-264-9979 to register.
LOCATION:Elk Rapids Library
UID:e.2409.22419
SEQUENCE:3
DTSTAMP:20260419T153216Z
URL:https://business.elkrapidschamber.org/events/details/relax-before-the-holidays-12-13-2019-22419
END:VEVENT

END:VCALENDAR
