BEGIN:VCALENDAR
VERSION:2.0
PRODID:-//ChamberMaster//Event Calendar 2.0//EN
METHOD:PUBLISH
X-PUBLISHED-TTL:P3D
REFRESH-INTERVAL:P3D
CALSCALE:GREGORIAN
BEGIN:VEVENT
DTSTART:20190901T180000Z
DTEND:20190901T200000Z
X-MICROSOFT-CDO-ALLDAYEVENT:FALSE
SUMMARY:Raven Hill Generations
DESCRIPTION:Inspired by the Smithsonian's Museum on Main Street exhibit\, Crossroads: Change in Rural America\, Raven Hill's exhibit is a chance to highlight for the community the importance of northern lower Michigan's history through a collection of stories\, artifacts\, exhibits\, and structures to be treasured and shared.
X-ALT-DESC;FMTTYPE=text/html:Inspired by the Smithsonian&#39\;s Museum on Main Street exhibit\, Crossroads: Change in Rural America\, Raven Hill&#39\;s exhibit is a chance to highlight for the community the importance of northern lower Michigan&#39\;s history through a collection of stories\, artifacts\, exhibits\, and structures to be treasured and shared.
LOCATION:Raven Hill Discovery Center 4737 Fuller Road East Jordan\, MI 49727
UID:e.2409.19725
SEQUENCE:3
DTSTAMP:20260423T050033Z
URL:https://business.elkrapidschamber.org/events/details/raven-hill-generations-19725
END:VEVENT

END:VCALENDAR
