BEGIN:VCALENDAR
VERSION:2.0
PRODID:-//ChamberMaster//Event Calendar 2.0//EN
METHOD:PUBLISH
X-PUBLISHED-TTL:P3D
REFRESH-INTERVAL:P3D
CALSCALE:GREGORIAN
BEGIN:VEVENT
DTSTART:20190629T210000Z
DTEND:20190629T230000Z
X-MICROSOFT-CDO-ALLDAYEVENT:FALSE
SUMMARY:Prime Rib Dinner @ Amvets
DESCRIPTION:$10 Prime Rib\, Potato\, Vegetable\, Salad
X-ALT-DESC;FMTTYPE=text/html:$10 Prime Rib\, Potato\, Vegetable\, Salad
LOCATION:Elk Rapids Amvets 410 Bridge St. Elk Rapids
UID:e.2409.19996
SEQUENCE:3
DTSTAMP:20260425T005409Z
URL:https://business.elkrapidschamber.org/events/details/prime-rib-dinner-amvets-19996
END:VEVENT

END:VCALENDAR
