BEGIN:VCALENDAR
VERSION:2.0
PRODID:-//ChamberMaster//Event Calendar 2.0//EN
METHOD:PUBLISH
X-PUBLISHED-TTL:P3D
REFRESH-INTERVAL:P3D
CALSCALE:GREGORIAN
BEGIN:VEVENT
DTSTART:20200926T150000Z
DTEND:20200926T190000Z
X-MICROSOFT-CDO-ALLDAYEVENT:FALSE
SUMMARY:Prelude to Painting with Louise Pond
DESCRIPTION:Louise Pond presents "Prelude to Painting" outside in the gardens at Twisted Fish Gallery.\n\nAn introduction of sketch techniques for those who want to learn to draw before learning how to paint.\n\nSaturday\, September 26th from 11am to 3pm\n\n$65/student\, 6 student MAX\n\nCoffee and cool drinks provided. \n\n*Students bring own bag lunch.\n\n*Masks required for any group lecture or if students visit inside the galleries.
X-ALT-DESC;FMTTYPE=text/html:<p style="box-sizing: border-box\; margin-top: 0px\; margin-bottom: 1rem\; color: rgb(44\, 54\, 58)\; font-family: Arial\, Helvetica\, sans-serif\; font-size: 13.3333px\; background-color: rgb(255\, 255\, 255)\;">Louise Pond presents&nbsp\;<span style="box-sizing: border-box\; font-weight: bolder\;">&quot\;Prelude to Painting&quot\;&nbsp\;</span>outside in the gardens at Twisted Fish Gallery.</p>\n\n<p style="box-sizing: border-box\; margin-top: 0px\; margin-bottom: 1rem\; color: rgb(44\, 54\, 58)\; font-family: Arial\, Helvetica\, sans-serif\; font-size: 13.3333px\; background-color: rgb(255\, 255\, 255)\;">An introduction of sketch techniques for those who want to learn to draw before learning how to paint.</p>\n\n<p style="box-sizing: border-box\; margin-top: 0px\; margin-bottom: 1rem\; color: rgb(44\, 54\, 58)\; font-family: Arial\, Helvetica\, sans-serif\; font-size: 13.3333px\; background-color: rgb(255\, 255\, 255)\;"><span style="box-sizing: border-box\; font-weight: bolder\;">Saturday\, September 26th from 11am to 3pm</span></p>\n\n<p style="box-sizing: border-box\; margin-top: 0px\; margin-bottom: 1rem\; color: rgb(44\, 54\, 58)\; font-family: Arial\, Helvetica\, sans-serif\; font-size: 13.3333px\; background-color: rgb(255\, 255\, 255)\;"><span style="box-sizing: border-box\; font-weight: bolder\;">$65/student\, 6 student MAX</span></p>\n\n<p style="box-sizing: border-box\; margin-top: 0px\; margin-bottom: 1rem\; color: rgb(44\, 54\, 58)\; font-family: Arial\, Helvetica\, sans-serif\; font-size: 13.3333px\; background-color: rgb(255\, 255\, 255)\;">Coffee and cool drinks provided.&nbsp\;</p>\n\n<p style="box-sizing: border-box\; margin-top: 0px\; margin-bottom: 1rem\; color: rgb(44\, 54\, 58)\; font-family: Arial\, Helvetica\, sans-serif\; font-size: 13.3333px\; background-color: rgb(255\, 255\, 255)\;">*Students bring own bag lunch.</p>\n\n<p style="box-sizing: border-box\; margin-top: 0px\; margin-bottom: 1rem\; color: rgb(44\, 54\, 58)\; font-family: Arial\, Helvetica\, sans-serif\; font-size: 13.3333px\; background-color: rgb(255\, 255\, 255)\;">*Masks required for any group lecture or if students visit inside the galleries.&nbsp\;</p>\n
LOCATION:Twisted Fish Gallery 10443 S. BayShore Drive Elk Rapids\, MI 49629
UID:e.2409.24096
SEQUENCE:3
DTSTAMP:20260422T031257Z
URL:https://business.elkrapidschamber.org/events/details/prelude-to-painting-with-louise-pond-24096
END:VEVENT

END:VCALENDAR
