BEGIN:VCALENDAR
VERSION:2.0
PRODID:-//ChamberMaster//Event Calendar 2.0//EN
METHOD:PUBLISH
X-PUBLISHED-TTL:P3D
REFRESH-INTERVAL:P3D
CALSCALE:GREGORIAN
BEGIN:VEVENT
DTSTART:20190904T220000Z
DTEND:20190905T000000Z
X-MICROSOFT-CDO-ALLDAYEVENT:FALSE
SUMMARY:Pottery & Wine
DESCRIPTION:Join us for an evening of wine and paint-your-own-pottery!\n\nCottage Pottery is extending their painting studio to the 1918 Cellars Wine Tasting Room at Castle Farms for this unique experience in a one-of-a-kind setting. Guests can choose from different pieces of pottery to paint with any design you feel inspired by!\n\nAll paints\, supplies and artist guidance included. Once you have completed your pieces\, they will be transported to the Cottage Pottery studio for professional glazing and firing. After completion\, they will be ready for you to pick up at your convenience. Choose your pick-up location\, Castle Farms or Cottage Pottery (downtown Charlevoix). Also included in your ticket: a glass of 1918 Cellars wine to inspire your artistic senses!
X-ALT-DESC;FMTTYPE=text/html:<p><strong>Join us for an evening of wine and paint-your-own-pottery!</strong><br />\nCottage Pottery is extending their painting studio to the 1918 Cellars Wine Tasting Room at Castle Farms for this unique experience in a one-of-a-kind setting. Guests can choose from different pieces of pottery to paint with any design you feel inspired by!</p>\n\n<p>All paints\, supplies and artist guidance included. Once you have completed your pieces\, they will be transported to the Cottage Pottery studio for professional glazing and firing. After completion\, they will be ready for you to pick up at your convenience. Choose your pick-up location\, Castle Farms or Cottage Pottery (downtown Charlevoix). Also included in your ticket: a glass of 1918 Cellars wine to inspire your artistic senses!</p>\n
LOCATION:Castle Farms 5052 M-66 N. Charlevoix\, MI 49720
UID:e.2409.20652
SEQUENCE:3
DTSTAMP:20260423T050054Z
URL:https://business.elkrapidschamber.org/events/details/pottery-wine-09-04-2019-20652
END:VEVENT

END:VCALENDAR
