BEGIN:VCALENDAR
VERSION:2.0
PRODID:-//ChamberMaster//Event Calendar 2.0//EN
METHOD:PUBLISH
X-PUBLISHED-TTL:P3D
REFRESH-INTERVAL:P3D
CALSCALE:GREGORIAN
BEGIN:VEVENT
DTSTART:20230916T140000Z
DTEND:20230916T220000Z
X-MICROSOFT-CDO-ALLDAYEVENT:FALSE
SUMMARY:POP UP MARKET @Elk Rapids Bible Church
DESCRIPTION:For more information or to reserve a space\, call Jake Gillett at (231) 620-7188
X-ALT-DESC;FMTTYPE=text/html:For more information or to reserve a space\, call Jake Gillett at (231) 620-7188
LOCATION:Elk Rapids Bible Church
UID:e.2409.38991
SEQUENCE:3
DTSTAMP:20260419T222622Z
URL:https://business.elkrapidschamber.org/events/details/pop-up-market-elk-rapids-bible-church-38991
END:VEVENT

END:VCALENDAR
