BEGIN:VCALENDAR
VERSION:2.0
PRODID:-//ChamberMaster//Event Calendar 2.0//EN
METHOD:PUBLISH
X-PUBLISHED-TTL:P3D
REFRESH-INTERVAL:P3D
CALSCALE:GREGORIAN
BEGIN:VEVENT
DTSTART:20230312T180000Z
DTEND:20230312T200000Z
X-MICROSOFT-CDO-ALLDAYEVENT:FALSE
SUMMARY:Pokemon Club at the ER District Library
DESCRIPTION:Join us for a celebration of all things Pok mon!\n\nSunday\, March 12\, 2023\, 2:00 - 4:00 pm\n\nMake Pok mon themed crafts\, meet fellow trainers and try your hand at a card game battle. This is an event for ages 8+\n\nStations will be set up with Pok mon crafts\, games\, and activities.\n\nDon't have Pok mon cards or don't know how to play? Don't worry! There will be crafts and activities that only require your creativity.
X-ALT-DESC;FMTTYPE=text/html:Join us for a celebration of all things Pok&eacute\;mon!<br />\n<strong>Sunday\, March 12\, 2023\, 2:00 - 4:00 pm</strong><br />\nMake Pok&eacute\;mon themed crafts\, meet fellow trainers and try your hand at a card game battle. This is an event for ages 8+<br />\nStations will be set up with Pok&eacute\;mon crafts\, games\, and activities.<br />\nDon&#39\;t have Pok&eacute\;mon cards or don&#39\;t know how to play? Don&#39\;t worry! There will be crafts and activities that only require your creativity.
LOCATION:
UID:e.2409.35862
SEQUENCE:3
DTSTAMP:20260420T070225Z
URL:https://business.elkrapidschamber.org/events/details/pokemon-club-at-the-er-district-library-35862
END:VEVENT

END:VCALENDAR
