BEGIN:VCALENDAR
VERSION:2.0
PRODID:-//ChamberMaster//Event Calendar 2.0//EN
METHOD:PUBLISH
X-PUBLISHED-TTL:P3D
REFRESH-INTERVAL:P3D
CALSCALE:GREGORIAN
BEGIN:VEVENT
DTSTART:20241024T170000Z
DTEND:20241024T190000Z
X-MICROSOFT-CDO-ALLDAYEVENT:FALSE
SUMMARY:Poetry Writing Workshop
DESCRIPTION:Poetry Writing Workshop\n\nThursday\, October 24\, 2024 - 1:00pm (2hrs)\, Free with registration\n\nJoin Fleda Brown\, author of The Woods Are on Fire: New and Selected Poems\, for a poetry workshop on October 24.  The first 25 people to register for this event or for the reading and discussion on October 23 will receive a free copy of The Woods Are On Fire. Register online at: Antrim Writers Series
X-ALT-DESC;FMTTYPE=text/html:<div>&nbsp\;</div>\n\n<div><b style="font-family: Arial\, sans-serif\; font-size: small\; white-space-collapse: preserve\; background-color: rgb(255\, 255\, 255)\;">Poetry Writing Workshop</b><br style="font-family: Arial\, sans-serif\; font-size: small\; white-space-collapse: preserve\; background-color: rgb(255\, 255\, 255)\;" />\n<span style="font-family: Arial\, sans-serif\; font-size: small\; white-space-collapse: preserve\; background-color: rgb(255\, 255\, 255)\;">Thursda</span><wbr style="font-family: Arial\, sans-serif\; font-size: small\; white-space-collapse: preserve\; background-color: rgb(255\, 255\, 255)\;" /><span style="font-family: Arial\, sans-serif\; font-size: small\; white-space-collapse: preserve\; background-color: rgb(255\, 255\, 255)\;">y\, October 24\, 2024 - 1:00pm (2hrs)\, Free with registration</span><br style="font-family: Arial\, sans-serif\; font-size: small\; white-space-collapse: preserve\; background-color: rgb(255\, 255\, 255)\;" />\n<span style="font-family: Arial\, sans-serif\; font-size: small\; white-space-collapse: preserve\; background-color: rgb(255\, 255\, 255)\;">Joi</span><wbr style="font-family: Arial\, sans-serif\; font-size: small\; white-space-collapse: preserve\; background-color: rgb(255\, 255\, 255)\;" /><span style="font-family: Arial\, sans-serif\; font-size: small\; white-space-collapse: preserve\; background-color: rgb(255\, 255\, 255)\;">n Fleda Brown\, author of&nbsp\;</span><em style="font-family: Arial\, sans-serif\; font-size: small\; white-space-collapse: preserve\; background-color: rgb(255\, 255\, 255)\;"><i>The Woods Are on Fire: New and Selected Poems</i></em><span style="font-family: Arial\, sans-serif\; font-size: small\; white-space-collapse: preserve\; background-color: rgb(255\, 255\, 255)\;">\, for a poetry workshop on October 24.&nbsp\; The first 25 people to register for this event or for the reading and discussion on October 23 will receive a free copy of&nbsp\;</span><i style="font-family: Arial\, sans-serif\; font-size: small\; white-space-collapse: preserve\; background-color: rgb(255\, 255\, 255)\;">The Woods Are On Fire. </i><span style="font-family: Arial\, sans-serif\; font-size: small\; white-space-collapse: preserve\; background-color: rgb(255\, 255\, 255)\;">Register online at:&nbsp\;</span><a href="https://www.google.com/url?q=https%3A%2F%2Fwww.crosshatch.org%2Fwriters&amp\;sa=D&amp\;ust=1728685560000000&amp\;usg=AOvVaw3f2NjTE7ISfZIv7CgCV7Hq" style="font-family: Arial\, sans-serif\; font-size: small\; white-space-collapse: preserve\; background-color: rgb(255\, 255\, 255)\;" target="_blank">Antrim Writers Series</a></div>\n
LOCATION:
UID:e.2409.45519
SEQUENCE:3
DTSTAMP:20260424T200820Z
URL:https://business.elkrapidschamber.org/events/details/poetry-writing-workshop-45519
END:VEVENT

END:VCALENDAR
