BEGIN:VCALENDAR
VERSION:2.0
PRODID:-//ChamberMaster//Event Calendar 2.0//EN
METHOD:PUBLISH
X-PUBLISHED-TTL:P3D
REFRESH-INTERVAL:P3D
CALSCALE:GREGORIAN
BEGIN:VEVENT
DTSTART:20191227T230000Z
DTEND:20191228T010000Z
X-MICROSOFT-CDO-ALLDAYEVENT:FALSE
SUMMARY:Pizza and Pipes: Gourmet Pizza Dinner and Concert with Dave Calendine
DESCRIPTION:The Music House presents Pizza and Pipes\, a delicious gourmet pizza dinner and a very special concert from Red Wings organist\, Dave Calendine\, on the 'Mighty Wurlizter' theater organ. Enjoy a great dinner and dessert with great music. Doors open at 6 pm for dinner\, with the concert around 6:30 pm. This is a very popular event so reservations are highly recommended. Tickets are $30 for adults and $10 for children 10 and under. Dave Calendine is an amazingly talented organist and pianist and a great entertainer. A resident of the Detroit area\, Dave is one of two organists for The Detroit Red Wings\, is the staff organist at The Fox Theater\, has accompanied the Rockettes in both Detroit and New York\, performs at The Redford Theater and at his church as\, well as concerts at the Sanfillipo Foundation in Illinois\, and at the national Music Box Society International conventions. Calendine is also the current President of the American Theatre Organ Society (ATOS).
X-ALT-DESC;FMTTYPE=text/html:<span style="color: rgb(29\, 33\, 41)\; font-family: Helvetica\, Arial\, sans-serif\; font-size: 14px\; white-space: pre-wrap\; background-color: rgb(255\, 255\, 255)\;">The Music House presents Pizza and Pipes\, a delicious gourmet pizza dinner and a very special concert from Red Wings organist\, Dave Calendine\, on the &lsquo\;Mighty Wurlizter&rsquo\; theater organ. Enjoy a great dinner and dessert with great music. Doors open at 6 pm for dinner\, with the concert around 6:30 pm. This is a very popular event so reservations are highly recommended. Tickets are $30 for adults and $10 for children 10 and under. Dave Calendine is an amazingly talented organist and pianist and a great entertainer. A resident of the Detroit area\, Dave is one of two organists for The Detroit Red Wings\, is the staff organist at The Fox Theater\, has accompanied the Rockettes in both Detroit and New York\, performs at The Redford Theater and at his church as\, well as concerts at the Sanfillipo Foundation in Illinois\, and at the national Music Box Society International conventions. Calendine is also the current President of the American Theatre Organ Society (ATOS).</span>
LOCATION:The Music House is located just south of Elk Rapids at 7377 US 31 North\, Williamsburg\, 49690
UID:e.2409.22424
SEQUENCE:3
DTSTAMP:20260419T155545Z
URL:https://business.elkrapidschamber.org/events/details/pizza-and-pipes-gourmet-pizza-dinner-and-concert-with-dave-calendine-22424
END:VEVENT

END:VCALENDAR
