BEGIN:VCALENDAR
VERSION:2.0
PRODID:-//ChamberMaster//Event Calendar 2.0//EN
METHOD:PUBLISH
X-PUBLISHED-TTL:P3D
REFRESH-INTERVAL:P3D
CALSCALE:GREGORIAN
BEGIN:VEVENT
DTSTART:20240106T180000Z
DTEND:20240106T193000Z
X-MICROSOFT-CDO-ALLDAYEVENT:FALSE
SUMMARY:Pine Spruce\, or Fir? Winter Conifer ID at Grass River
DESCRIPTION:Pine\, Spruce\, or Fir? Winter Conifer ID\n\nSaturday\, January 6th\, 2024 - 1:00 pm (1.5 hrs.)\, $10 per person\n\nIs that a pine\, spruce\, fir\, hemlock\, or maybe a cedar? And what's the difference? Join us as we learn to ID our conifers at Grass River. Learn ID techniques using various keys\, and then hike our trails to put your skills to the test. Register Online Here.
X-ALT-DESC;FMTTYPE=text/html:<p style="margin: 0px\; padding: 0px\; font-family: Arial\, Verdana\, Helvetica\, sans-serif\; font-size: 14px\; white-space-collapse: preserve\; background-color: rgb(255\, 255\, 255)\;"><span style="font-weight: bold\; color: rgb(18\, 22\, 23)\;">Pine\, Spruce\, or Fir? Winter Conifer ID</span></p>\n\n<p style="margin: 0px\; padding: 0px\; font-family: Arial\, Verdana\, Helvetica\, sans-serif\; font-size: 14px\; white-space-collapse: preserve\; background-color: rgb(255\, 255\, 255)\;"><span style="font-size: 13px\; font-weight: bold\;">Saturday\, January 6th\, 2024 - 1:00 pm (1.5 hrs.)\, $10 per person</span></p>\n\n<p style="margin: 0px\; padding: 0px\; font-family: Arial\, Verdana\, Helvetica\, sans-serif\; font-size: 14px\; white-space-collapse: preserve\; background-color: rgb(255\, 255\, 255)\;"><span style="font-size: 13px\; font-weight: bold\;">Is that a pine\, spruce\, fir\, hemlock\, or maybe a cedar? And what&#39\;s the difference? Join us as we learn to ID our conifers at Grass River. Learn ID techniques using various keys\, and then hike our trails to put your skills to the test.&nbsp\;</span><a href="https://www.google.com/url?q=https%3A%2F%2Fwww.grassriver.org%2Fclasses-and-programs.html&amp\;sa=D&amp\;ust=1704642420000000&amp\;usg=AOvVaw1iWT_PaKXTFqJoTkJY_eQK" style="color: rgb(40\, 79\, 161)\; font-weight: bold\; font-size: 13px\;" target="_blank">Register Online Here.</a></p>\n
LOCATION:6500 Alden Hwy. Bellaire
UID:e.2409.40853
SEQUENCE:3
DTSTAMP:20260419T122013Z
URL:https://business.elkrapidschamber.org/events/details/pine-spruce-or-fir-winter-conifer-id-at-grass-river-40853
END:VEVENT

END:VCALENDAR
