BEGIN:VCALENDAR
VERSION:2.0
PRODID:-//ChamberMaster//Event Calendar 2.0//EN
METHOD:PUBLISH
X-PUBLISHED-TTL:P3D
REFRESH-INTERVAL:P3D
CALSCALE:GREGORIAN
BEGIN:VEVENT
DTSTART:20230329T140000Z
DTEND:20230329T190000Z
X-MICROSOFT-CDO-ALLDAYEVENT:FALSE
SUMMARY:Pine Hill Spring Break Drop In Activities
DESCRIPTION:Bring the kiddos out to Pine Hill anytime March 27th-31st 10am-3pm for some free family fun. Take our spring scavenger hunt and plant something to take home. Enjoy the sunny greenhouses and pretend like you traveled somewhere warm for spring break.
X-ALT-DESC;FMTTYPE=text/html:<span style="color: rgb(62\, 62\, 62)\; font-family: Arial\, Verdana\, Helvetica\, sans-serif\; font-size: 14px\; text-align: center\; background-color: rgb(230\, 245\, 255)\;">Bring the kiddos out to Pine Hill anytime March 27th-31st 10am-3pm for some free family fun. Take our spring scavenger hunt and plant something to take home. Enjoy the sunny greenhouses and pretend like you traveled somewhere warm for spring break.</span>
LOCATION:Pine hill Nursery 886 US Hwy 31 N. Kewadin\, MI 49648
UID:e.2409.36136
SEQUENCE:3
DTSTAMP:20260420T070001Z
URL:https://business.elkrapidschamber.org/events/details/pine-hill-spring-break-drop-in-activities-03-29-2023-36136
END:VEVENT

END:VCALENDAR
