BEGIN:VCALENDAR
VERSION:2.0
PRODID:-//ChamberMaster//Event Calendar 2.0//EN
METHOD:PUBLISH
X-PUBLISHED-TTL:P3D
REFRESH-INTERVAL:P3D
CALSCALE:GREGORIAN
BEGIN:VEVENT
DTSTART:20231104T230000Z
DTEND:20231105T001500Z
X-MICROSOFT-CDO-ALLDAYEVENT:FALSE
SUMMARY:Pico and Chown at the Music House Museum
DESCRIPTION:The Music House is thrilled to welcome back two of our favorite local performers\, Miriam Pico and David Chown\, for a very special concert on November 4 at 7:00PM at the Music House Museum Tickets for the event can be purchased at MyNorth Tickets for $25.00.\n\nMiriam is local legend who has been chosen multiple times by area voters as Northern Express' "Best Solo Artist" and Traverse Magazine's "Red Hot Best Singer/Songwriter". She is also the founder and owner of Little Bird School of Song.\n\nDavid is known locally and nationally for his amazing piano playing. He is a performer and educator with degrees in Piano Technology and Jazz Studies. He is the owner of Lookout Music Productions Studio where he teaches and records. David also is an Audio Technology instructor at NMC. With more than 30 years of professional performance\, his skills are truly breathtaking.\n\nYou do not want to miss this concert\, which will be filled with classics and originals\, at the Music House or online. Tickets are $25. Click : to purchase online or call (231)938-9300 if you have any questions.
X-ALT-DESC;FMTTYPE=text/html:<span style="color: rgb(5\, 5\, 5)\; font-family: &quot\;Segoe UI Historic&quot\;\, &quot\;Segoe UI&quot\;\, Helvetica\, Arial\, sans-serif\; font-size: 15px\; background-color: rgb(255\, 255\, 255)\;">The Music House is thrilled to welcome back two of our favorite local performers\, Miriam Pico and David Chown\, for a very special concert on November 4 at 7:00PM at the Music House Museum Tickets for the event can be purchased at MyNorth Tickets for $25.00.</span><br style="color: rgb(5\, 5\, 5)\; font-family: &quot\;Segoe UI Historic&quot\;\, &quot\;Segoe UI&quot\;\, Helvetica\, Arial\, sans-serif\; font-size: 15px\; background-color: rgb(255\, 255\, 255)\;" />\n<span style="color: rgb(5\, 5\, 5)\; font-family: &quot\;Segoe UI Historic&quot\;\, &quot\;Segoe UI&quot\;\, Helvetica\, Arial\, sans-serif\; font-size: 15px\; background-color: rgb(255\, 255\, 255)\;">Miriam is local legend who has been chosen multiple times by area voters as Northern Express&#39\; &quot\;Best Solo Artist&quot\; and Traverse Magazine&#39\;s &quot\;Red Hot Best Singer/Songwriter&quot\;. She is also the founder and owner of Little Bird School of Song.</span><br style="color: rgb(5\, 5\, 5)\; font-family: &quot\;Segoe UI Historic&quot\;\, &quot\;Segoe UI&quot\;\, Helvetica\, Arial\, sans-serif\; font-size: 15px\; background-color: rgb(255\, 255\, 255)\;" />\n<span style="color: rgb(5\, 5\, 5)\; font-family: &quot\;Segoe UI Historic&quot\;\, &quot\;Segoe UI&quot\;\, Helvetica\, Arial\, sans-serif\; font-size: 15px\; background-color: rgb(255\, 255\, 255)\;">David is known locally and nationally for his amazing piano playing. He is a performer and educator with degrees in Piano Technology and Jazz Studies. He is the owner of Lookout Music Productions Studio where he teaches and records. David also is an Audio Technology instructor at NMC. With more than 30 years of professional performance\, his skills are truly breathtaking.</span><br style="color: rgb(5\, 5\, 5)\; font-family: &quot\;Segoe UI Historic&quot\;\, &quot\;Segoe UI&quot\;\, Helvetica\, Arial\, sans-serif\; font-size: 15px\; background-color: rgb(255\, 255\, 255)\;" />\n<span style="color: rgb(5\, 5\, 5)\; font-family: &quot\;Segoe UI Historic&quot\;\, &quot\;Segoe UI&quot\;\, Helvetica\, Arial\, sans-serif\; font-size: 15px\; background-color: rgb(255\, 255\, 255)\;">You do not want to miss this concert\, which will be filled with classics and originals\, at the Music House or online. Tickets are $25. Click : to purchase online or call (231)938-9300 if you have any questions.</span>
LOCATION:
UID:e.2409.39452
SEQUENCE:3
DTSTAMP:20260419T180222Z
URL:https://business.elkrapidschamber.org/events/details/pico-and-chown-at-the-music-house-museum-39452
END:VEVENT

END:VCALENDAR
