BEGIN:VCALENDAR
VERSION:2.0
PRODID:-//ChamberMaster//Event Calendar 2.0//EN
METHOD:PUBLISH
X-PUBLISHED-TTL:P3D
REFRESH-INTERVAL:P3D
CALSCALE:GREGORIAN
BEGIN:VEVENT
DTSTART:20190928T170000Z
DTEND:20190928T190000Z
X-MICROSOFT-CDO-ALLDAYEVENT:FALSE
SUMMARY:Pastel Workshop: Autumn Along the River
DESCRIPTION:Bright colors are appearing among the forest greenery. We will use pastels to capture their brilliance and light. Photos will be available to use\, but if you have a picture of Grass River\, bring it along to share. For adults and youth 12 and up. Class size is limited to 12. More information at grassriver.org. Grass River Natural Area is located at 6500 Alden Highway\, Bellaire MI.
X-ALT-DESC;FMTTYPE=text/html:<span style="color: rgb(29\, 34\, 40)\; background-color: rgb(255\, 255\, 255)\; font-size: 12pt\; font-family: &quot\;Helvetica Neue&quot\;\;">Bright colors are appearing among the forest greenery. We will use pastels to capture their brilliance and light. Photos will be available to use\, but if you have a picture of Grass River\, bring it along to share. For adults and youth 12 and up. Class size is limited to 12.&nbsp\;</span><span style="color: rgb(29\, 34\, 40)\; font-family: &quot\;Helvetica Neue&quot\;\, Helvetica\, Arial\, sans-serif\; background-color: rgb(255\, 255\, 255)\; font-size: 12pt\;">More information at grassriver.org. Grass River Natural Area is located at 6500 Alden Highway\, Bellaire MI.</span>
LOCATION:Grass River 6500 Alden Highway Bellaire\, MI
UID:e.2409.21816
SEQUENCE:3
DTSTAMP:20260423T073518Z
URL:https://business.elkrapidschamber.org/events/details/pastel-workshop-autumn-along-the-river-21816
END:VEVENT

END:VCALENDAR
