BEGIN:VCALENDAR
VERSION:2.0
PRODID:-//ChamberMaster//Event Calendar 2.0//EN
METHOD:PUBLISH
X-PUBLISHED-TTL:P3D
REFRESH-INTERVAL:P3D
CALSCALE:GREGORIAN
BEGIN:VEVENT
DTSTART:20200806T230000Z
DTEND:20200807T010000Z
X-MICROSOFT-CDO-ALLDAYEVENT:FALSE
SUMMARY:Parks & Rec Public Meeting - Virtual
DESCRIPTION:Click for agenda\n\n\n\nThe Elk Rapids Parks & Recreation Commission serves primarily in an advisory capacity regarding the development of parks and recreational plans. The Commission also facilitates the exchange of information pertaining to recreation programs within the Community by holding public hearings\, involving members of the community\, as well as maintaining   on a liaison basis   contact with both Antrim County and Elk Rapids Township to avoid duplication of programs and to identify Community needs. The Commission also recommends to Village Council the acquisition of parks and the development of parks and recreational programs.e exchange of information pertaining to recreation programs within the Community by holding public hearings\, involving members of the community\, as well as maintaining   on a liaison basis   contact with both Antrim County and Elk Rapids Township to avoid duplication of programs and to identify Community needs. The Commission also recommends to Village Council the acquisition of parks and the development of parks and recreational programs.
X-ALT-DESC;FMTTYPE=text/html:<span style="color: rgb(103\, 103\, 103)\; font-family: Helvetica\, Arial\, sans-serif\; font-size: 12px\; background-color: rgb(248\, 248\, 248)\;"><a href="https://www.elkrapids.org/wp-content/uploads/2020/07/Packet-1.pdf">Click for agenda</a><br />\n<br />\nThe Elk Rapids Parks &amp\; Recreation Commission serves primarily in an advisory capacity regarding the development of parks and recreational plans. The Commission also facilitates the exchange of information pertaining to recreation programs within the Community by holding public hearings\, involving members of the community\, as well as maintaining &ndash\; on a liaison basis &ndash\; contact with both Antrim County and Elk Rapids Township to avoid duplication of programs and to identify Community needs. The Commission also recommends to Village Council the acquisition of parks and the development of parks and recreational programs.e exchange of information pertaining to recreation programs within the Community by holding public hearings\, involving members of the community\, as well as maintaining &ndash\; on a liaison basis &ndash\; contact with both Antrim County and Elk Rapids Township to avoid duplication of programs and to identify Community needs. The Commission also recommends to Village Council the acquisition of parks and the development of parks and recreational programs.</span>
LOCATION:Village Offices 315 Bridge St. Elk Rapids
UID:e.2409.17584
SEQUENCE:3
DTSTAMP:20260422T054604Z
URL:https://business.elkrapidschamber.org/events/details/parks-rec-public-meeting-virtual-17584
END:VEVENT

END:VCALENDAR
