BEGIN:VCALENDAR
VERSION:2.0
PRODID:-//ChamberMaster//Event Calendar 2.0//EN
METHOD:PUBLISH
X-PUBLISHED-TTL:P3D
REFRESH-INTERVAL:P3D
CALSCALE:GREGORIAN
BEGIN:VEVENT
DTSTART;VALUE=DATE:20190820
DTEND;VALUE=DATE:20190822
TRANSP:TRANSPARENT
X-MICROSOFT-CDO-ALLDAYEVENT:TRUE
SUMMARY:Painting with Wine
DESCRIPTION:
X-ALT-DESC;FMTTYPE=text/html:
LOCATION:Royal Farms
UID:e.2409.18646
SEQUENCE:3
DTSTAMP:20260426T011502Z
URL:https://business.elkrapidschamber.org/events/details/painting-with-wine-18646
END:VEVENT

END:VCALENDAR
