BEGIN:VCALENDAR
VERSION:2.0
PRODID:-//ChamberMaster//Event Calendar 2.0//EN
METHOD:PUBLISH
X-PUBLISHED-TTL:P3D
REFRESH-INTERVAL:P3D
CALSCALE:GREGORIAN
BEGIN:VEVENT
DTSTART:20231118T180000Z
DTEND:20231118T200000Z
X-MICROSOFT-CDO-ALLDAYEVENT:FALSE
SUMMARY:Painting Animals in Action at Grass River
DESCRIPTION:Painting Animals in Action\n\nSaturday\, November 18th\, 2023 - 1:00pm (2 hrs)\, $10 per person\n\nWe will use a variety of painting and drawing media to learn how to illustrate animals in action. Birds\, bunnies and bobcats are among the subjects we will explore.  We'll learn the basic shapes and textures that make these creatures recognizable.  Join us for a playful afternoon!\n\nRegister at GRNA Programs (grassriver.org)
X-ALT-DESC;FMTTYPE=text/html:<b style="font-family: Arial\, sans-serif\; font-size: small\; white-space-collapse: preserve\; background-color: rgb(255\, 255\, 255)\;">Painting Animals in Action</b><br style="font-family: Arial\, sans-serif\; font-size: small\; white-space-collapse: preserve\; background-color: rgb(255\, 255\, 255)\;" />\n<i style="font-family: Arial\, sans-serif\; font-size: small\; white-space-collapse: preserve\; background-color: rgb(255\, 255\, 255)\;">Saturday\, November 18th\, 2023 - 1:00pm (2 hrs)\, $10 per person</i><br style="font-family: Arial\, sans-serif\; font-size: small\; white-space-collapse: preserve\; background-color: rgb(255\, 255\, 255)\;" />\n<span style="font-family: Arial\, sans-serif\; font-size: small\; white-space-collapse: preserve\; background-color: rgb(255\, 255\, 255)\;">We will use a variety of painting and drawing media to learn how to illustrate animals in action. Birds\, bunnies and bobcats are among the subjects we will explore. &nbsp\;We&#39\;ll learn the basic shapes and textures that make these creatures recognizable. &nbsp\;Join us for a playful afternoon!</span><br style="font-family: Arial\, sans-serif\; font-size: small\; white-space-collapse: preserve\; background-color: rgb(255\, 255\, 255)\;" />\n<span style="font-family: Arial\, sans-serif\; font-size: small\; white-space-collapse: preserve\; background-color: rgb(255\, 255\, 255)\;">Regis</span><wbr style="font-family: Arial\, sans-serif\; font-size: small\; white-space-collapse: preserve\; background-color: rgb(255\, 255\, 255)\;" /><span style="font-family: Arial\, sans-serif\; font-size: small\; white-space-collapse: preserve\; background-color: rgb(255\, 255\, 255)\;">ter at&nbsp\;</span><a href="https://www.google.com/url?q=https%3A%2F%2Fwww.grassriver.org%2Fclasses-and-programs.html&amp\;sa=D&amp\;ust=1700226540000000&amp\;usg=AOvVaw38cmqeCCAViiTNUo4nznLs" style="font-family: Arial\, sans-serif\; font-size: small\; white-space-collapse: preserve\; background-color: rgb(255\, 255\, 255)\;" target="_blank">GRNA Programs (grassriver.org<wbr />)</a>
LOCATION:Grass River Natural Area 6500 Alden Hwy. Bellaire
UID:e.2409.39845
SEQUENCE:3
DTSTAMP:20260419T175957Z
URL:https://business.elkrapidschamber.org/events/details/painting-animals-in-action-at-grass-river-39845
END:VEVENT

END:VCALENDAR
