BEGIN:VCALENDAR
VERSION:2.0
PRODID:-//ChamberMaster//Event Calendar 2.0//EN
METHOD:PUBLISH
X-PUBLISHED-TTL:P3D
REFRESH-INTERVAL:P3D
CALSCALE:GREGORIAN
BEGIN:VEVENT
DTSTART:20230314T220000Z
DTEND:20230315T000000Z
X-MICROSOFT-CDO-ALLDAYEVENT:FALSE
SUMMARY:Paint & Sip at Castle Farms/1918 Cellars
DESCRIPTION:PAINT & SIP\n\nMarch 14\, 2023\, 6-8 pm\n\n \n\nFollow along with a guide and paint a unique work of art on canvas while enjoying 1918 Cellars wine at Castle Farms! Tickets are $45 and include your canvas\, art supplies\, and one glass of 1918 Cellars wine. Additional beverages are available for purchase!\n\n \n\nPurchase Tickets HERE
X-ALT-DESC;FMTTYPE=text/html:<p style="margin: 0px\; padding: 0px\; font-family: Arial\, Verdana\, Helvetica\, sans-serif\; font-size: 12px\; white-space: pre-wrap\; background-color: rgb(190\, 228\, 237)\;"><span style="font-size: 15px\;">PAINT &amp\; SIP</span></p>\n\n<p style="margin: 0px\; padding: 0px\; font-family: Arial\, Verdana\, Helvetica\, sans-serif\; font-size: 12px\; white-space: pre-wrap\; background-color: rgb(190\, 228\, 237)\;"><span style="font-size: 15px\;">March 14\, 2023\, 6-8 pm</span></p>\n\n<p style="margin: 0px\; padding: 0px\; font-family: Arial\, Verdana\, Helvetica\, sans-serif\; font-size: 12px\; white-space: pre-wrap\; background-color: rgb(190\, 228\, 237)\;">&nbsp\;</p>\n\n<p style="margin: 0px\; padding: 0px\; font-family: Arial\, Verdana\, Helvetica\, sans-serif\; font-size: 12px\; white-space: pre-wrap\; background-color: rgb(190\, 228\, 237)\;"><span style="font-size: 15px\;">Follow along with a guide and paint a unique work of art on canvas while enjoying 1918 Cellars wine at Castle Farms! Tickets are $45 and include your canvas\, art supplies\, and one glass of 1918 Cellars wine. Additional beverages are available for purchase!</span></p>\n\n<p style="margin: 0px\; padding: 0px\; font-family: Arial\, Verdana\, Helvetica\, sans-serif\; font-size: 12px\; white-space: pre-wrap\; background-color: rgb(190\, 228\, 237)\;">&nbsp\;</p>\n\n<p style="margin: 0px\; padding: 0px\; font-family: Arial\, Verdana\, Helvetica\, sans-serif\; font-size: 12px\; white-space: pre-wrap\; background-color: rgb(190\, 228\, 237)\;"><span style="font-size: 15px\;">Purchase Tickets</span><span style="font-size: 15px\; color: rgb(5\, 5\, 5)\;"> </span><a data-link-type="web" href="http://castlefarms.com/events/canvas-paint-sip" style="color: rgb(40\, 79\, 161)\; font-weight: bold\; font-size: 15px\;" target="_blank">HERE</a></p>\n
LOCATION:Castle Farms 5052 M-66 Charlevoix
UID:e.2409.36088
SEQUENCE:3
DTSTAMP:20260420T070334Z
URL:https://business.elkrapidschamber.org/events/details/paint-sip-at-castle-farms-1918-cellars-36088
END:VEVENT

END:VCALENDAR
