BEGIN:VCALENDAR
VERSION:2.0
PRODID:-//ChamberMaster//Event Calendar 2.0//EN
METHOD:PUBLISH
X-PUBLISHED-TTL:P3D
REFRESH-INTERVAL:P3D
CALSCALE:GREGORIAN
BEGIN:VEVENT
DTSTART:20230202T223000Z
DTEND:20230203T003000Z
X-MICROSOFT-CDO-ALLDAYEVENT:FALSE
SUMMARY:Paint & Pour Party for Antrim County High Tea at Blue Pelican
DESCRIPTION:Artist/Instructor Jim Simmons
X-ALT-DESC;FMTTYPE=text/html:Artist/Instructor Jim Simmons
LOCATION:2535 Main St\, Central Lake\, MI 49622
UID:e.2409.35383
SEQUENCE:3
DTSTAMP:20260420T070839Z
URL:https://business.elkrapidschamber.org/events/details/paint-pour-party-for-antrim-county-high-tea-at-blue-pelican-35383
END:VEVENT

END:VCALENDAR
