BEGIN:VCALENDAR
VERSION:2.0
PRODID:-//ChamberMaster//Event Calendar 2.0//EN
METHOD:PUBLISH
X-PUBLISHED-TTL:P3D
REFRESH-INTERVAL:P3D
CALSCALE:GREGORIAN
BEGIN:VEVENT
DTSTART:20240120T230000Z
DTEND:20240121T010000Z
X-MICROSOFT-CDO-ALLDAYEVENT:FALSE
SUMMARY:Paint Night at Amvet's Post #114
DESCRIPTION:An evening of fun and art.  Chelsea Kline will be walking you through a Polar Bear painting! \n\nSpace is limited. Cash bar available.
X-ALT-DESC;FMTTYPE=text/html:An evening of fun and art.&nbsp\; Chelsea Kline will be walking you through a Polar Bear painting!&nbsp\;<br />\nSpace is limited. Cash bar available.
LOCATION:Amvet's Post #114 Bridge St in Elk Rapids
UID:e.2409.40903
SEQUENCE:3
DTSTAMP:20260419T121802Z
URL:https://business.elkrapidschamber.org/events/details/paint-night-at-amvet-s-post-114-40903
END:VEVENT

END:VCALENDAR
