BEGIN:VCALENDAR
VERSION:2.0
PRODID:-//ChamberMaster//Event Calendar 2.0//EN
METHOD:PUBLISH
X-PUBLISHED-TTL:P3D
REFRESH-INTERVAL:P3D
CALSCALE:GREGORIAN
BEGIN:VEVENT
DTSTART:20220602T213000Z
DTEND:20220603T010000Z
X-MICROSOFT-CDO-ALLDAYEVENT:FALSE
SUMMARY:Paddle Season Kick-Off Gathering
DESCRIPTION:Join Paddle Antrim for a special paddling event to kick-off the paddling season on the Chain of Lakes Water Trail with Short's Brewing Company! Grab your paddleboard\, kayak or paddle craft of choice and a life jacket and join us for an hour- long paddle on Elk River followed by a gathering\, 2 minutes up 31\, at Short's Pull Barn. No registration required but all participants must fill out a waiver. https://www.paddleantrim.com/event/paddling-season-kick-off-with-shorts-brewing-company/ Contact info: info@paddleantrim.com 231-498-2080
X-ALT-DESC;FMTTYPE=text/html:Join Paddle Antrim for a special paddling event to kick-off the paddling season on the Chain of Lakes Water Trail with Short&rsquo\;s Brewing Company! Grab your paddleboard\, kayak or paddle craft of choice and a life jacket and join us for an hour- long paddle on Elk River followed by a gathering\, 2 minutes up 31\, at Short&rsquo\;s Pull Barn. No registration required but all participants must fill out a waiver. https://www.paddleantrim.com/event/paddling-season-kick-off-with-shorts-brewing-company/ Contact info: info@paddleantrim.com 231-498-2080
LOCATION:Elk Rapids Rotary Park - 305 US-31\, Elk Rapids\, MI 49629
UID:e.2409.30192
SEQUENCE:3
DTSTAMP:20260420T202504Z
URL:https://business.elkrapidschamber.org/events/details/paddle-season-kick-off-gathering-30192
END:VEVENT

END:VCALENDAR
