BEGIN:VCALENDAR
VERSION:2.0
PRODID:-//ChamberMaster//Event Calendar 2.0//EN
METHOD:PUBLISH
X-PUBLISHED-TTL:P3D
REFRESH-INTERVAL:P3D
CALSCALE:GREGORIAN
BEGIN:VEVENT
DTSTART:20190914T190000Z
DTEND:20190915T010000Z
X-MICROSOFT-CDO-ALLDAYEVENT:FALSE
SUMMARY:Paddle Antrim FINAL BASH
DESCRIPTION:
X-ALT-DESC;FMTTYPE=text/html:
LOCATION:Short's Production Facility -- PULL BARN 211 Industrial Park Elk Rapids\, MI 49629
UID:e.2409.20706
SEQUENCE:3
DTSTAMP:20260423T001035Z
URL:https://business.elkrapidschamber.org/events/details/paddle-antrim-final-bash-20706
END:VEVENT

END:VCALENDAR
