BEGIN:VCALENDAR
VERSION:2.0
PRODID:-//ChamberMaster//Event Calendar 2.0//EN
METHOD:PUBLISH
X-PUBLISHED-TTL:P3D
REFRESH-INTERVAL:P3D
CALSCALE:GREGORIAN
BEGIN:VEVENT
DTSTART:20241004T230000Z
DTEND:20241005T003000Z
X-MICROSOFT-CDO-ALLDAYEVENT:FALSE
SUMMARY:Owl Prowl at Grass River Natural Areal
DESCRIPTION:Owl Prowl\n\nFriday\, October 4\, 2024 - 7:00 pm (1.5 hrs)\, $10 per person\, must pre-register\n\nJoin us as we learn about our local owls and their conservation with an introductory presentation\, and then head out for a night hike in search of these amazing birds. Participants should be comfortable walking outdoors at night for about 1 mile on uneven trails. Bring a light. $10 per person. Must pre-register. No walk-in spaces are available.
X-ALT-DESC;FMTTYPE=text/html:<p style="margin: 0px\; padding: 0px\;"><span style="font-size: 13px\; font-weight: bold\; font-family: Arial\, Verdana\, Helvetica\, sans-serif\;">Owl Prowl</span></p>\n\n<p style="margin: 0px\; padding: 0px\;"><span style="font-size: 13px\; font-family: Arial\, Verdana\, Helvetica\, sans-serif\; font-style: italic\;">Friday\, October 4\, 2024 - 7:00 pm (1.5 hrs)\, $10 per person\, must pre-register</span></p>\n\n<p style="margin: 0px\; padding: 0px\;"><span style="font-size: 13px\; font-family: Arial\, Verdana\, Helvetica\, sans-serif\;">Join us as we learn about our local owls and their conservation with an introductory presentation\, and then head out for a night hike in search of these amazing birds. Participants should be comfortable walking outdoors at night for about 1 mile on uneven trails. Bring a light. $10 per person. Must pre-register. No walk-in spaces are available.</span></p>\n\n<p style="margin: 0px\; padding: 0px\;">&nbsp\;</p>\n
LOCATION:6500 Alden Hwy Bellaire MI
UID:e.2409.45494
SEQUENCE:3
DTSTAMP:20260424T201549Z
URL:https://business.elkrapidschamber.org/events/details/owl-prowl-at-grass-river-natural-areal-45494
END:VEVENT

END:VCALENDAR
