BEGIN:VCALENDAR
VERSION:2.0
PRODID:-//ChamberMaster//Event Calendar 2.0//EN
METHOD:PUBLISH
X-PUBLISHED-TTL:P3D
REFRESH-INTERVAL:P3D
CALSCALE:GREGORIAN
BEGIN:VEVENT
DTSTART:20191018T220000Z
DTEND:20191019T000000Z
X-MICROSOFT-CDO-ALLDAYEVENT:FALSE
SUMMARY:Opening Reception @ Twisted Fish Gallery
DESCRIPTION:Featuring the works of Anni Crouter\, Dani Knoph\, Sam Soet\, Roger Smith & James Troutman\n\nOpens Friday\, October 18th. WILD runs through November 9th.\n\n \n\nWILD brings the natural world to life through painting and sculpture. With detailed brush work and finely crafted wood\, bronze or soapstone\, each artist captures the spirit & life force of their beloved subject. WILD will be warm and inviting as we turn our Cottage Gallery into a playpen for nature's beautiful creatures. \n\n \n\nAnni Crouter has made an international name for herself having been invited to show in the UK and Africa last year. Her large scale canvases and elaborate framing bring majesty to her artwork. \n\n \n\nArtist and wildlife conservation advocate\, Dani Knoph joins Twisted Fish Gallery from her home & studio in Elk Rapids. \n\n \n\nInspired by nature\, Sculptor Sam Soet's work can be found at the Walk of Art Park in Elk Rapids as well as outdoor exhibitions throughout Michigan.\n\n \n\nTrained in taxidermy\, Roger Smith sculpts with clear definition and refinement\, but his artistry brings life to form. \n\n \n\nJames Troutman's love of travel inspires his works. With each return home to Michigan\, he brings the spirit of the adventure into studio to create his masterful soapstone carvings. \n\n \n\nJoin the artist for the Opening Reception on Friday\, October 18th at 6pm at Twisted Fish Gallery\, of Elk Rapids. Light refreshments will be served. All are welcome to this FREE artistic event. WILD will be on display through November 9th.
X-ALT-DESC;FMTTYPE=text/html:<strong><em><span style="font-family:calibri light\,sans-serif\;"><span style="font-size:12.0pt\;">Featuring the works of Anni Crouter\, Dani Knoph\, Sam Soet\, Roger Smith &amp\; James Troutman</span></span></em></strong><br />\n<strong><em><span style="font-family:calibri light\,sans-serif\;"><span style="font-size:12.0pt\;">Opens Friday\, October 18<sup>th</sup>. WILD runs through November 9<sup>th</sup>.</span></span></em></strong><br />\n&nbsp\;<br />\n<span style="font-family:calibri light\,sans-serif\;"><span style="font-size:12.0pt\;">WILD brings the natural world to life through painting and sculpture. With detailed brush work and finely crafted wood\, bronze or soapstone\, each artist captures the spirit &amp\; life force of their beloved subject. WILD will be warm and inviting as we turn our Cottage Gallery into a playpen for nature&rsquo\;s beautiful creatures. </span></span><br />\n&nbsp\;<br />\n<span style="font-family:calibri light\,sans-serif\;"><span style="font-size:12.0pt\;">Anni Crouter has made an international name for herself having been invited to show in the UK and Africa last year. Her large scale canvases and elaborate framing bring majesty to her artwork. </span></span><br />\n&nbsp\;<br />\n<span style="font-family:calibri light\,sans-serif\;"><span style="font-size:12.0pt\;">Artist and wildlife conservation advocate\, Dani Knoph joins Twisted Fish Gallery from her home &amp\; studio in Elk Rapids. </span></span><br />\n&nbsp\;<br />\n<span style="font-family:calibri light\,sans-serif\;"><span style="font-size:12.0pt\;">Inspired by nature\, Sculptor Sam Soet&rsquo\;s work can be found at the Walk of Art Park in Elk Rapids as well as outdoor exhibitions throughout Michigan.</span></span><br />\n&nbsp\;<br />\n<span style="font-family:calibri light\,sans-serif\;"><span style="font-size:12.0pt\;">Trained in taxidermy\, Roger Smith sculpts with clear definition and refinement\, but his artistry brings life to form. </span></span><br />\n&nbsp\;<br />\n<span style="font-family:calibri light\,sans-serif\;"><span style="font-size:12.0pt\;">James Troutman&rsquo\;s love of travel inspires his works. With each return home to Michigan\, he brings the spirit of the adventure into studio to create his masterful soapstone carvings. </span></span><br />\n&nbsp\;<br />\n<span style="font-family:calibri light\,sans-serif\;"><span style="font-size:12.0pt\;">Join the artist for the Opening Reception on Friday\, October 18<sup>th</sup> at 6pm at Twisted Fish Gallery\, of Elk Rapids. Light refreshments will be served. All are welcome to this FREE artistic event. WILD will be on display through November 9<sup>th</sup>. </span></span>
LOCATION:Twisted Fish Gallery 10443 S. Bayshore Dr Elk Rapids\,MI 49629
UID:e.2409.21927
SEQUENCE:3
DTSTAMP:20260423T090459Z
URL:https://business.elkrapidschamber.org/events/details/opening-reception-twisted-fish-gallery-21927
END:VEVENT

END:VCALENDAR
