BEGIN:VCALENDAR
VERSION:2.0
PRODID:-//ChamberMaster//Event Calendar 2.0//EN
METHOD:PUBLISH
X-PUBLISHED-TTL:P3D
REFRESH-INTERVAL:P3D
CALSCALE:GREGORIAN
BEGIN:VEVENT
DTSTART:20221116T150000Z
DTEND:20221117T000000Z
X-MICROSOFT-CDO-ALLDAYEVENT:FALSE
SUMMARY:Open House-Village Parks & Rec
DESCRIPTION:Stop by and give your input on the Five-Year Community Recreation Plan.\n\nYou do not need to be a village resident to participate\, we would love to hear from area residents\, visitors\, and stakeholders.
X-ALT-DESC;FMTTYPE=text/html:Stop by and give your input on the Five-Year Community Recreation Plan.<br />\nYou do not need to be a village resident to participate\, we would love to hear from area residents\, visitors\, and stakeholders.
LOCATION:Government Center 315 Bridge St. Elk Rapids
UID:e.2409.33218
SEQUENCE:3
DTSTAMP:20260420T130400Z
URL:https://business.elkrapidschamber.org/events/details/open-house-village-parks-rec-33218
END:VEVENT

END:VCALENDAR
