BEGIN:VCALENDAR
VERSION:2.0
PRODID:-//ChamberMaster//Event Calendar 2.0//EN
METHOD:PUBLISH
X-PUBLISHED-TTL:P3D
REFRESH-INTERVAL:P3D
CALSCALE:GREGORIAN
BEGIN:VEVENT
DTSTART;VALUE=DATE:20230202
DTEND;VALUE=DATE:20230203
TRANSP:TRANSPARENT
X-MICROSOFT-CDO-ALLDAYEVENT:TRUE
SUMMARY:Off the Wall Movie Night & Potluck
DESCRIPTION:Potluck Dinner: 6pm\, Movie: 7pm\, Free of Charge. Please call the library at 231-331-4318 for movie details and to sign up for the potluck. Sponsored by Alden District Library & Friends. Held at Helena Township Community Center\, 8751 Helena Rd\, Alden.
X-ALT-DESC;FMTTYPE=text/html:<span style="color: rgb(44\, 54\, 58)\; font-family: Verdana\, Geneva\, sans-serif\; font-size: 13.3333px\; background-color: rgb(255\, 255\, 255)\;">Potluck Dinner: 6pm\, Movie: 7pm\, Free of Charge. Please call the library at 231-331-4318 for movie details and to sign up for the potluck. Sponsored by Alden District Library &amp\; Friends. Held at Helena Township Community Center\, 8751 Helena Rd\, Alden.</span>
LOCATION:
UID:e.2409.35441
SEQUENCE:3
DTSTAMP:20260420T071423Z
URL:https://business.elkrapidschamber.org/events/details/off-the-wall-movie-night-potluck-35441
END:VEVENT

END:VCALENDAR
