BEGIN:VCALENDAR
VERSION:2.0
PRODID:-//ChamberMaster//Event Calendar 2.0//EN
METHOD:PUBLISH
X-PUBLISHED-TTL:P3D
REFRESH-INTERVAL:P3D
CALSCALE:GREGORIAN
BEGIN:VEVENT
DTSTART:20200826T222000Z
DTEND:20200827T002000Z
X-MICROSOFT-CDO-ALLDAYEVENT:FALSE
SUMMARY:Norte Slow Roll Bike Ride
DESCRIPTION:Begin at Harbor Pavilion and end at Short's Pull Barn each Wednesday @6:20 p.m. with a roll out at 6:30 p.m..  Bring a mask and we will wear them for he duration of the ride.\n\n\n\nINSPIRING A CITY OF KIDS ON BIKES!
X-ALT-DESC;FMTTYPE=text/html:<span style="color: rgb(51\, 51\, 51)\; font-family: sans-serif\, Arial\, Verdana\, &quot\;Trebuchet MS&quot\;\; font-size: 13px\; background-color: rgb(255\, 255\, 255)\;">Begin at Harbor Pavilion and end at Short&#39\;s Pull Barn each Wednesday @6:20 p.m. with a roll out at 6:30 p.m..&nbsp\; Bring a mask and we will wear them for he duration of the ride.</span><br style="color: rgb(51\, 51\, 51)\; font-family: sans-serif\, Arial\, Verdana\, &quot\;Trebuchet MS&quot\;\; font-size: 13px\;" />\n<br style="color: rgb(51\, 51\, 51)\; font-family: sans-serif\, Arial\, Verdana\, &quot\;Trebuchet MS&quot\;\; font-size: 13px\;" />\n<span style="font-family: sans-serif\, Arial\, Verdana\, &quot\;Trebuchet MS&quot\;\; font-size: 13px\; color: rgb(255\, 0\, 0)\;"><strong>INSPIRING A CITY OF KIDS ON BIKES!</strong></span>
LOCATION:
UID:e.2409.24053
SEQUENCE:3
DTSTAMP:20260422T055615Z
URL:https://business.elkrapidschamber.org/events/details/norte-slow-roll-bike-ride-08-26-2020-24053
END:VEVENT

END:VCALENDAR
