BEGIN:VCALENDAR
VERSION:2.0
PRODID:-//ChamberMaster//Event Calendar 2.0//EN
METHOD:PUBLISH
X-PUBLISHED-TTL:P3D
REFRESH-INTERVAL:P3D
CALSCALE:GREGORIAN
BEGIN:VEVENT
DTSTART:20190611T214500Z
DTEND:20190612T000000Z
X-MICROSOFT-CDO-ALLDAYEVENT:FALSE
SUMMARY:Norte' Elk Rapids Strong Project
DESCRIPTION:Join us the Norte' Elk Rapids Strong Project for Wednesday evening Community Bicycle Slow Rolls - June 11-September 3\n\nMeet at the Harbor Pavilion at 5:45\, roll at 6 PM. End at Shorts for kids' games\, beverages and food truck eats!   This slow roll is a 5-mile\, family-friendly\, chit-chatty\, smiley\, happy\, healthy people on bikes. Details:\n\nhttps://elgruponorte.org/elkrapids/rides/
X-ALT-DESC;FMTTYPE=text/html:Join us the Norte&#39\; Elk Rapids Strong Project for Wednesday evening Community Bicycle Slow Rolls - June 11-September 3<br />\nMeet at the Harbor Pavilion at 5:45\, roll at 6 PM. End at Shorts for kids&#39\; games\, beverages and food truck eats!&nbsp\; &nbsp\;This slow roll is a 5-mile\, family-friendly\, chit-chatty\, smiley\, happy\, healthy people on bikes. Details:<br />\n<a href="https://elgruponorte.org/elkrapids/rides/" rel="noreferrer" style="color:purple\;outline:0px\;" target="_blank">https://elgruponorte.org/elkrapids/rides/</a><br />\n&nbsp\;
LOCATION:
UID:e.2409.20079
SEQUENCE:3
DTSTAMP:20260425T004740Z
URL:https://business.elkrapidschamber.org/events/details/norte-elk-rapids-strong-project-20079
END:VEVENT

END:VCALENDAR
