BEGIN:VCALENDAR
VERSION:2.0
PRODID:-//ChamberMaster//Event Calendar 2.0//EN
METHOD:PUBLISH
X-PUBLISHED-TTL:P3D
REFRESH-INTERVAL:P3D
CALSCALE:GREGORIAN
BEGIN:VEVENT
DTSTART:20240314T170000Z
DTEND:20240314T193000Z
X-MICROSOFT-CDO-ALLDAYEVENT:FALSE
SUMMARY:NMC Signs of River Otters and Other Elusive Animals
DESCRIPTION:NMC Signs of River Otters and Other Elusive Animals\n\nThursday March 14\n\n1:00pm (2.5 hrs)\n\nRegister through NMC Extended Education\n\nRiver otters are active and healthy at Grass River Natural Area. Join a naturalist to learn the natural history of river otters and how to spot signs of these elusive and fun indicators of water quality. On the trail we will look for signs of other elusive animals\, like bobcat\, mink\, or black bear (dress to be outdoors). Register through NMC Extended Education.
X-ALT-DESC;FMTTYPE=text/html:<strong><span style="color:black\;"><span style="font-family:calibri\,sans-serif\;">NMC Signs of River Otters and Other Elusive Animals</span></span></strong><br />\n<strong><span style="color:black\;"><em><span style="font-family:calibri\,sans-serif\;">Thursday March 14</span></em></span></strong><br />\n<em><strong><span style="color:black\;"><span style="font-family:calibri\,sans-serif\;">1:00pm (2.5 hrs)</span></span></strong></em><br />\n<em><strong><span style="color:black\;"><span style="font-family:calibri\,sans-serif\;">Register through NMC Extended Education</span></span></strong></em><br />\n<span style="color:black\;">River otters are active and healthy at Grass River Natural Area. Join a naturalist to learn the natural history of river otters and how to spot signs of these elusive and fun indicators of water quality. On the trail we will look for signs of other elusive animals\, like bobcat\, mink\, or black bear (dress to be outdoors).&nbsp\;</span><a href="https://nmc.augusoft.net/index.cfm?method=ClassInfo.ClassInformation&amp\;int_class_id=2821&amp\;int_category_id=0&amp\;int_sub_category_id=0&amp\;int_catalog_id=0" target="_blank">Register through NMC Extended Education</a>.
LOCATION:
UID:e.2409.43058
SEQUENCE:3
DTSTAMP:20260419T133440Z
URL:https://business.elkrapidschamber.org/events/details/nmc-signs-of-river-otters-and-other-elusive-animals-43058
END:VEVENT

END:VCALENDAR
