BEGIN:VCALENDAR
VERSION:2.0
PRODID:-//ChamberMaster//Event Calendar 2.0//EN
METHOD:PUBLISH
X-PUBLISHED-TTL:P3D
REFRESH-INTERVAL:P3D
CALSCALE:GREGORIAN
BEGIN:VEVENT
DTSTART:20241016T230000Z
DTEND:20241017T010000Z
X-MICROSOFT-CDO-ALLDAYEVENT:FALSE
SUMMARY:NMC Owls of Northern Michigan
DESCRIPTION:Wednesday\, October 16\, 2024 - 7:00pm (2  hrs)\, Register through NMC Extended Education\n\nOwls are fascinating birds. What is it about the elusive owl that sparks an air of mystery and intrigue? Join Grass River staff as we learn about local owls\, their biology\, identification\, calls\, and habits. Learn times and places to go searching for owls during day and night\, and strategies to increase your success in finding them. Then\, we'll head out for a night hike in search of these amazing birds. Participants should be comfortable walking outdoors at night for about 1 mile on uneven trails. Bring a light.  Register here: Owls of Northern Michigan - NMC Lifelong & Professional Learning (augusoft.net)
X-ALT-DESC;FMTTYPE=text/html:<div>&nbsp\;</div>\n\n<div><strong><em><span style="color:#786A65\;"><span style="font-family:times new roman\,serif\;"><span style="font-size:13.0pt\;">Wednesday\, October 16\, 2024 - 7:00pm (2&nbsp\; hrs)\, Register through NMC Extended Education</span></span></span></em></strong><br />\n<span style="color:#786A65\;"><span style="font-family:times new roman\,serif\;"><span style="font-size:13.0pt\;">Owls are fascinating birds. What is it about the elusive owl that sparks an air of mystery and intrigue? Join Grass River staff as we learn about local owls\, their biology\, identification\, calls\, and habits. Learn times and places to go searching for owls during day and night\, and strategies to increase your success in finding them. Then\, we&#39\;ll head out for a night hike in search of these amazing birds. Participants should be comfortable walking outdoors at night for about 1 mile on uneven trails. Bring a light. </span></span></span><span style="color:#3C4043\;"><span style="font-family:times new roman\,serif\;"><span style="font-size:13.0pt\;">&nbsp\;Register here: </span></span></span><a href="https://nmc.augusoft.net/index.cfm?method=ClassInfo.ClassInformation&amp\;int_class_id=3747&amp\;int_category_id=0&amp\;int_sub_category_id=0&amp\;int_catalog_id=0"><span style="text-decoration:none\;text-underline:none\;"><span style="color:#647A27\;"><span style="font-family:arial\,sans-serif\;"><span style="font-size:13.0pt\;">Owls of Northern Michigan - NMC Lifelong &amp\; Professional Learning (augusoft.net)</span></span></span></span></a></div>\n
LOCATION:Grass River Natural Area 6500 Alden Hwy. Bellaire
UID:e.2409.45515
SEQUENCE:3
DTSTAMP:20260421T151155Z
URL:https://business.elkrapidschamber.org/events/details/nmc-owls-of-northern-michigan-45515
END:VEVENT

END:VCALENDAR
