BEGIN:VCALENDAR
VERSION:2.0
PRODID:-//ChamberMaster//Event Calendar 2.0//EN
METHOD:PUBLISH
X-PUBLISHED-TTL:P3D
REFRESH-INTERVAL:P3D
CALSCALE:GREGORIAN
BEGIN:VEVENT
DTSTART:20190810T003000Z
DTEND:20190810T023000Z
X-MICROSOFT-CDO-ALLDAYEVENT:FALSE
SUMMARY:Night Hike at Grass River
DESCRIPTION:Learn about fascinating nocturnal animals and insects that come out at night\, with a short presentation followed by a hike as the sun goes down. Bring a light.\n\n\n\n \n\n\n\nLeft-behind traces\, such as tracks in the snow or sand\, leave a picture of what's been there. We will take a short hike around the center to find natural materials\, then we'll combined them with some surprising recycled materials to create our own unique "Nature Handprints" to learn the art of printmaking.
X-ALT-DESC;FMTTYPE=text/html:<div><strong><em><font face="Verdana">Learn about fascinating nocturnal animals and insects that come out at night\, with a short presentation followed by a hike as the sun goes down. Bring a light.</font></em></strong><br />\n<br />\n<em>&nbsp\;</em><br />\n<br />\nLeft-behind traces\, such as tracks in the snow or sand\, leave a picture of what&#39\;s been there. We will take a short hike around the center to find natural materials\, then we&#39\;ll combined them with some surprising recycled materials to create our own unique &quot\;Nature Handprints&quot\; to learn the art of printmaking.</div>\n
LOCATION:Grass River Natural Area 6500 Alden Highway\, Bellaire
UID:e.2409.18631
SEQUENCE:3
DTSTAMP:20260423T070642Z
URL:https://business.elkrapidschamber.org/events/details/night-hike-at-grass-river-18631
END:VEVENT

END:VCALENDAR
