BEGIN:VCALENDAR
VERSION:2.0
PRODID:-//ChamberMaster//Event Calendar 2.0//EN
METHOD:PUBLISH
X-PUBLISHED-TTL:P3D
REFRESH-INTERVAL:P3D
CALSCALE:GREGORIAN
BEGIN:VEVENT
DTSTART;VALUE=DATE:20220513
DTEND;VALUE=DATE:20220514
TRANSP:TRANSPARENT
X-MICROSOFT-CDO-ALLDAYEVENT:TRUE
SUMMARY:Newton's Road Startup Week
DESCRIPTION:Northern Michigan Startup Week is open to everyone   students and adults.It's for everyone with curiosity or an idea they want to explore\, those who want to make new connections\, and those who want to get in on the action of building something new.\n\n\n\nStartup Week\n\n\n\nMay 9\n\nSpace Night\n\nMay 12\n\nUniversity Idea Showcase\n\nMay 13\n\nStudent Pitch Competition
X-ALT-DESC;FMTTYPE=text/html:Northern Michigan Startup Week is open to everyone &ndash\; students and adults.It&rsquo\;s for everyone with curiosity or an idea they want to explore\, those who want to make new connections\, and those who want to get in on the action of building something new.<br />\n<br />\nStartup Week<br />\n<br />\nMay 9<br />\nSpace Night<br />\nMay 12<br />\nUniversity Idea Showcase<br />\nMay 13<br />\nStudent Pitch Competition
LOCATION:
UID:e.2409.29564
SEQUENCE:3
DTSTAMP:20260420T202515Z
URL:https://business.elkrapidschamber.org/events/details/newton-s-road-startup-week-29564
END:VEVENT

END:VCALENDAR
