BEGIN:VCALENDAR
VERSION:2.0
PRODID:-//ChamberMaster//Event Calendar 2.0//EN
METHOD:PUBLISH
X-PUBLISHED-TTL:P3D
REFRESH-INTERVAL:P3D
CALSCALE:GREGORIAN
BEGIN:VEVENT
DTSTART:20231231T180000Z
DTEND:20240101T010000Z
X-MICROSOFT-CDO-ALLDAYEVENT:FALSE
SUMMARY:New Years Eve Pre-Party at Ethanology
DESCRIPTION:
X-ALT-DESC;FMTTYPE=text/html:
LOCATION:
UID:e.2409.40394
SEQUENCE:3
DTSTAMP:20260419T180051Z
URL:https://business.elkrapidschamber.org/events/details/new-years-eve-pre-party-at-ethanology-40394
END:VEVENT

END:VCALENDAR
