BEGIN:VCALENDAR
VERSION:2.0
PRODID:-//ChamberMaster//Event Calendar 2.0//EN
METHOD:PUBLISH
X-PUBLISHED-TTL:P3D
REFRESH-INTERVAL:P3D
CALSCALE:GREGORIAN
BEGIN:VEVENT
DTSTART:20191231T160000Z
DTEND:20200101T030000Z
X-MICROSOFT-CDO-ALLDAYEVENT:FALSE
SUMMARY:New Years Eve at Pearls New Orleans Kitchen
DESCRIPTION:Pearl's New Orleans Kitchen Open New Years Eve featuring a delicious special menu!
X-ALT-DESC;FMTTYPE=text/html:Pearl&#39\;s New Orleans Kitchen Open New Years Eve featuring a delicious special menu!
LOCATION:Pearl's New Orleans Kitchen
UID:e.2409.22494
SEQUENCE:3
DTSTAMP:20260419T142701Z
URL:https://business.elkrapidschamber.org/events/details/new-years-eve-at-pearls-new-orleans-kitchen-22494
END:VEVENT

END:VCALENDAR
