BEGIN:VCALENDAR
VERSION:2.0
PRODID:-//ChamberMaster//Event Calendar 2.0//EN
METHOD:PUBLISH
X-PUBLISHED-TTL:P3D
REFRESH-INTERVAL:P3D
CALSCALE:GREGORIAN
BEGIN:VEVENT
DTSTART:20191231T220000Z
DTEND:20200101T020000Z
X-MICROSOFT-CDO-ALLDAYEVENT:FALSE
SUMMARY:New Years Eve at Blue Pelican Inn
DESCRIPTION:Blue Pelican Inn open for NYE with Special Menu and Drinks! Live Music\, come bring in the New Year with us!
X-ALT-DESC;FMTTYPE=text/html:Blue Pelican Inn open for NYE with Special Menu and Drinks! Live Music\, come bring in the New Year with us!
LOCATION:Blue Pelican Inn
UID:e.2409.22491
SEQUENCE:3
DTSTAMP:20260419T142850Z
URL:https://business.elkrapidschamber.org/events/details/new-years-eve-at-blue-pelican-inn-22491
END:VEVENT

END:VCALENDAR
