BEGIN:VCALENDAR
VERSION:2.0
PRODID:-//ChamberMaster//Event Calendar 2.0//EN
METHOD:PUBLISH
X-PUBLISHED-TTL:P3D
REFRESH-INTERVAL:P3D
CALSCALE:GREGORIAN
BEGIN:VEVENT
DTSTART:20220108T000000Z
DTEND:20220108T020000Z
X-MICROSOFT-CDO-ALLDAYEVENT:FALSE
SUMMARY:New Year’s Night Ski and Snowshoe
DESCRIPTION:New Year's Night Ski and Snowshoe\n\nFriday\, January 7\, 2022 - 7:00 pm (2 hrs.)\, $5 per person\n\nStart the new year off right with an evening self-guided ski on GRNA's groomed ski trails or a snowshoe to the river. A fire and hot cocoa will be available at the pavilion and the Center will be open while the night ski and snowshoe is open. Bring your own headlamp to light your way.
X-ALT-DESC;FMTTYPE=text/html:<div background-color:="" font-size:="" new="" style="font-family: " times="" white-space:=""><span style="font-family: Arial\, Verdana\, Helvetica\, sans-serif\; font-weight: bold\; text-decoration-line: underline\;">New Year&rsquo\;s Night Ski and Snowshoe</span></div>\n\n<div background-color:="" font-size:="" new="" style="font-family: " times="" white-space:=""><span style="font-family: Arial\, Verdana\, Helvetica\, sans-serif\; font-size: 14px\; font-weight: bold\;">Friday\, January 7\, 2022 - 7:00 pm (2 hrs.)\, $5 per person</span></div>\n\n<div background-color:="" font-size:="" new="" style="font-family: " times="" white-space:=""><span style="font-family: Arial\, Verdana\, Helvetica\, sans-serif\; font-size: 14px\; font-weight: bold\;">Start the new year off right with an evening self-guided ski on GRNA&rsquo\;s groomed ski trails or a snowshoe to the river. A fire and hot cocoa will be available at the pavilion and the Center will be open while the night ski and snowshoe is open. Bring your own headlamp to light your way.</span></div>\n
LOCATION:Grass River natural Area 6500 Alden Hwy. Bellaire\, 49615
UID:e.2409.28304
SEQUENCE:3
DTSTAMP:20260421T033253Z
URL:https://business.elkrapidschamber.org/events/details/new-year-s-night-ski-and-snowshoe-28304
END:VEVENT

END:VCALENDAR
