BEGIN:VCALENDAR
VERSION:2.0
PRODID:-//ChamberMaster//Event Calendar 2.0//EN
METHOD:PUBLISH
X-PUBLISHED-TTL:P3D
REFRESH-INTERVAL:P3D
CALSCALE:GREGORIAN
BEGIN:VEVENT
DTSTART:20191231T230000Z
DTEND:20200101T045500Z
X-MICROSOFT-CDO-ALLDAYEVENT:FALSE
SUMMARY:New Year's Eve @ Torch Lake Cafe'
DESCRIPTION:Ring in 2020 with great friends\, great food\, and great music!\n\n3 course dinner-appetizer-Entr e-Dessert\n\nLimited a la carte menu also available\n\n6pm and 9pm seating\n\nLive music 6-9pm Leanna & Ivan\n\n9-close - Yankee Station\n\nMidnight Champagne Toast
X-ALT-DESC;FMTTYPE=text/html:Ring in 2020 with great friends\, great food\, and great music!<br />\n3 course dinner-appetizer-Entr&eacute\;e-Dessert<br />\nLimited a la carte menu also available<br />\n6pm and 9pm seating<br />\nLive music 6-9pm Leanna &amp\; Ivan<br />\n9-close - Yankee Station<br />\nMidnight Champagne Toast
LOCATION:Torch Lake Caf
UID:e.2409.22476
SEQUENCE:3
DTSTAMP:20260419T140822Z
URL:https://business.elkrapidschamber.org/events/details/new-year-s-eve-torch-lake-cafe-22476
END:VEVENT

END:VCALENDAR
