BEGIN:VCALENDAR
VERSION:2.0
PRODID:-//ChamberMaster//Event Calendar 2.0//EN
METHOD:PUBLISH
X-PUBLISHED-TTL:P3D
REFRESH-INTERVAL:P3D
CALSCALE:GREGORIAN
BEGIN:VEVENT
DTSTART:20200101T010000Z
DTEND:20200101T045500Z
X-MICROSOFT-CDO-ALLDAYEVENT:FALSE
SUMMARY:New Year's Eve Celebration
DESCRIPTION:8 course strolling dinner\n\nMusic by the Blue Water Kings\n\nChampagne Toast\n\nRoom Packages Available
X-ALT-DESC;FMTTYPE=text/html:8 course strolling dinner<br />\nMusic by the Blue Water Kings<br />\nChampagne Toast<br />\nRoom Packages Available
LOCATION:Grand Traverse Resort & Spa
UID:e.2409.22475
SEQUENCE:3
DTSTAMP:20260419T153119Z
URL:https://business.elkrapidschamber.org/events/details/new-year-s-eve-celebration-22475
END:VEVENT

END:VCALENDAR
