BEGIN:VCALENDAR
VERSION:2.0
PRODID:-//ChamberMaster//Event Calendar 2.0//EN
METHOD:PUBLISH
X-PUBLISHED-TTL:P3D
REFRESH-INTERVAL:P3D
CALSCALE:GREGORIAN
BEGIN:VEVENT
DTSTART:20200101T010000Z
DTEND:20200101T045500Z
X-MICROSOFT-CDO-ALLDAYEVENT:FALSE
SUMMARY:New Year's Eve Bash at Castle Farms
DESCRIPTION:Roar into the 20's at Castle Farms! Dance all night with DJ Casey Rusch from Rusch Entertainment. Enjoy heavy hors d'oeuvres and desserts with a chocolate fountain! A cash bar will be serving classic cocktails\, beer and wine. \n\n\n\nMake sure to wear your best 1920's outfits for a chance to win great prizes for best costume\, couples costume and best jazz cats (dancing pair). Also capture fun memories with the Magic Mirror Photo Booth. \n\n\n\nYou must be 21+ and present a valid ID at the door.
X-ALT-DESC;FMTTYPE=text/html:Roar into the 20&#39\;s at Castle Farms!&nbsp\;Dance all night with DJ Casey Rusch from Rusch Entertainment. Enjoy heavy hors d&#39\;oeuvres and desserts with a chocolate fountain! A cash bar will be serving classic cocktails\, beer and wine.&nbsp\;<br />\n<br />\nMake sure to wear your best 1920&#39\;s outfits for a chance to win great prizes for best costume\, couples costume and best jazz cats (dancing pair). Also capture fun memories with the Magic Mirror Photo Booth.&nbsp\;<br />\n<br />\nYou must be 21+ and present a valid ID at the door.&nbsp\;
LOCATION:Castle Farms 5052 M-66 N Charlevoix\, MI 49720
UID:e.2409.19319
SEQUENCE:3
DTSTAMP:20260419T141628Z
URL:https://business.elkrapidschamber.org/events/details/new-year-s-eve-bash-at-castle-farms-19319
END:VEVENT

END:VCALENDAR
