BEGIN:VCALENDAR
VERSION:2.0
PRODID:-//ChamberMaster//Event Calendar 2.0//EN
METHOD:PUBLISH
X-PUBLISHED-TTL:P3D
REFRESH-INTERVAL:P3D
CALSCALE:GREGORIAN
BEGIN:VEVENT
DTSTART:20241030T213000Z
DTEND:20241030T223000Z
X-MICROSOFT-CDO-ALLDAYEVENT:FALSE
SUMMARY:New Vin/Yin Wednesday Evening class starts in October
DESCRIPTION:Join us for a new 6-week evening Vin/Yin class focusing on the 6 Chakras\, or energy centers along our spine.  The Chakra series will focus each week on a different chakra designed to balance and align each of the body's energy centers. The goal is to unblock these centers so energy can flow more freely throughout our bodies.\n\nThe word Chakra  means "plexus\," "wheel\," or "vortex."\n\nThese classes will be perfect for all levels of practice.
X-ALT-DESC;FMTTYPE=text/html:Join us for a new 6-week evening Vin/Yin class focusing on the 6 Chakras\, or energy centers along our spine.&nbsp\;&nbsp\;The Chakra series will focus each week on a different chakra designed to balance and align each of the body&#39\;s energy centers. The goal is to unblock these centers so energy can flow more freely throughout our bodies.<br />\nThe word Chakra&nbsp\; means &ldquo\;plexus\,&rdquo\; &ldquo\;wheel\,&rdquo\; or &ldquo\;vortex.&rdquo\;<br />\nThese classes will be perfect for all levels of practice.
LOCATION:Elk Rapids Yoga Flow 212 River Street Elk Rapids\, MI.
UID:e.2409.45398
SEQUENCE:3
DTSTAMP:20260424T201558Z
URL:https://business.elkrapidschamber.org/events/details/new-vin-yin-wednesday-evening-class-starts-in-october-10-30-2024-45398
END:VEVENT

END:VCALENDAR
