BEGIN:VCALENDAR
VERSION:2.0
PRODID:-//ChamberMaster//Event Calendar 2.0//EN
METHOD:PUBLISH
X-PUBLISHED-TTL:P3D
REFRESH-INTERVAL:P3D
CALSCALE:GREGORIAN
BEGIN:VEVENT
DTSTART:20190722T140000Z
DTEND:20190802T183000Z
X-MICROSOFT-CDO-ALLDAYEVENT:FALSE
SUMMARY:Nature Lovers Camp
DESCRIPTION:Enjoy time outdoors and examine the land formations and bodies of water that surround us. Same camp is repeated July 29-August 2. Bring a bag lunch\, hat\, sunscreen\, and insect repellent each day.
X-ALT-DESC;FMTTYPE=text/html:Enjoy time outdoors and examine the land formations and bodies of water that surround us. Same camp is repeated July 29-August 2. Bring a bag lunch\, hat\, sunscreen\, and insect repellent each day.
LOCATION:Raven Hill Discovery Center 4737 Fuller Road East Jordan\, MI 49727
UID:e.2409.19328
SEQUENCE:3
DTSTAMP:20260423T105722Z
URL:https://business.elkrapidschamber.org/events/details/nature-lovers-camp-19328
END:VEVENT

END:VCALENDAR
