BEGIN:VCALENDAR
VERSION:2.0
PRODID:-//ChamberMaster//Event Calendar 2.0//EN
METHOD:PUBLISH
X-PUBLISHED-TTL:P3D
REFRESH-INTERVAL:P3D
CALSCALE:GREGORIAN
BEGIN:VEVENT
DTSTART:20190815T140000Z
DTEND:20190815T160000Z
X-MICROSOFT-CDO-ALLDAYEVENT:FALSE
SUMMARY:Natural Paper Making
DESCRIPTION:Using natural materials and paper pulp\, a naturalist will help you make colorful paper as artwork. Bring a blender if you have one. Please preregister.
X-ALT-DESC;FMTTYPE=text/html:<span style="color: rgb(0\, 0\, 0)\; text-transform: none\; text-indent: 0px\; letter-spacing: normal\; font-family: &quot\;Lucida Grande&quot\;\, Verdana\, Arial\, Helvetica\, sans-serif\; font-size: 16px\; font-style: normal\; font-weight: normal\; word-spacing: 0px\; float: none\; display: inline !important\; white-space: normal\; orphans: 2\; widows: 2\; background-color: rgb(255\, 255\, 255)\; font-variant-ligatures: normal\; font-variant-caps: normal\; -webkit-text-stroke-width: 0px\; text-decoration-style: initial\; text-decoration-color: initial\;">Using natural materials and paper pulp\, a naturalist will help you make colorful paper as artwork. Bring a blender if you have one. Please preregister.</span>
LOCATION:Grass River Natural Area 6500 Alden Highway Bellaire\, MI
UID:e.2409.18632
SEQUENCE:3
DTSTAMP:20260424T020309Z
URL:https://business.elkrapidschamber.org/events/details/natural-paper-making-18632
END:VEVENT

END:VCALENDAR
