BEGIN:VCALENDAR
VERSION:2.0
PRODID:-//ChamberMaster//Event Calendar 2.0//EN
METHOD:PUBLISH
X-PUBLISHED-TTL:P3D
REFRESH-INTERVAL:P3D
CALSCALE:GREGORIAN
BEGIN:VEVENT
DTSTART:20190822T140000Z
DTEND:20190822T160000Z
X-MICROSOFT-CDO-ALLDAYEVENT:FALSE
SUMMARY:Natural Dye Workshop
DESCRIPTION:In this hands-on\, adult workshop\, Julie Hurd will introduce sustanable plant dye methods and application of natural dyes inspired by modern and ancient traditions.
X-ALT-DESC;FMTTYPE=text/html:<span style="color: rgb(0\, 0\, 0)\; text-transform: none\; text-indent: 0px\; letter-spacing: normal\; font-family: &quot\;Lucida Grande&quot\;\, Verdana\, Arial\, Helvetica\, sans-serif\; font-size: 16px\; font-style: normal\; font-weight: normal\; word-spacing: 0px\; float: none\; display: inline !important\; white-space: normal\; orphans: 2\; widows: 2\; background-color: rgb(255\, 255\, 255)\; font-variant-ligatures: normal\; font-variant-caps: normal\; -webkit-text-stroke-width: 0px\; text-decoration-style: initial\; text-decoration-color: initial\;">In this hands-on\, adult workshop\, Julie Hurd will introduce sustanable plant dye methods and application of natural dyes inspired by modern and ancient traditions.</span>
LOCATION:Grass River Natural Area 6500 Alden Highway Bellaire\, MI
UID:e.2409.18633
SEQUENCE:3
DTSTAMP:20260423T185737Z
URL:https://business.elkrapidschamber.org/events/details/natural-dye-workshop-18633
END:VEVENT

END:VCALENDAR
