BEGIN:VCALENDAR
VERSION:2.0
PRODID:-//ChamberMaster//Event Calendar 2.0//EN
METHOD:PUBLISH
X-PUBLISHED-TTL:P3D
REFRESH-INTERVAL:P3D
CALSCALE:GREGORIAN
BEGIN:VEVENT
DTSTART:20230310T200000Z
DTEND:20230310T230000Z
X-MICROSOFT-CDO-ALLDAYEVENT:FALSE
SUMMARY:Nadora Esthetics Grand Opening & Ribbon Cutting
DESCRIPTION:Come join us in celebrating the Grand Opening event for Nadora Esthetic's. Meet the providers\, experience the tranquil space and enjoy good company and good snacks and treats provided by local small businesses.\n\n\n\nThere will be a ribbon cutting at 4:00 p.m.
X-ALT-DESC;FMTTYPE=text/html:Come join us in celebrating the Grand Opening event for Nadora Esthetic&#39\;s. Meet the providers\, experience the tranquil space and enjoy good company and good snacks and treats provided by local small businesses.<br />\n<br />\nThere will be a ribbon cutting at 4:00 p.m.
LOCATION:Nadora Esthetic's
UID:e.2409.36100
SEQUENCE:3
DTSTAMP:20260420T070335Z
URL:https://business.elkrapidschamber.org/events/details/nadora-esthetics-grand-opening-ribbon-cutting-36100
END:VEVENT

END:VCALENDAR
